BEGIN:VCALENDAR
VERSION:2.0
PRODID:-//A Vértes Agoraja - ECPv4.9.13//NONSGML v1.0//EN
CALSCALE:GREGORIAN
METHOD:PUBLISH
X-WR-CALNAME:A Vértes Agoraja
X-ORIGINAL-URL:https://old.avertesagoraja.hu
X-WR-CALDESC:Events for A Vértes Agoraja
BEGIN:VTIMEZONE
TZID:Europe/Paris
BEGIN:DAYLIGHT
TZOFFSETFROM:+0100
TZOFFSETTO:+0200
TZNAME:CEST
DTSTART:20200329T010000
END:DAYLIGHT
BEGIN:STANDARD
TZOFFSETFROM:+0200
TZOFFSETTO:+0100
TZNAME:CET
DTSTART:20201025T010000
END:STANDARD
END:VTIMEZONE
BEGIN:VEVENT
DTSTART;TZID=Europe/Paris:20201020T150000
DTEND;TZID=Europe/Paris:20201020T163000
DTSTAMP:20260425T012512
CREATED:20200815T075633Z
LAST-MODIFIED:20201006T061542Z
UID:52264-1603206000-1603211400@old.avertesagoraja.hu
SUMMARY:Kolorádó Kid
DESCRIPTION:[vc_row][vc_column][vc_column_text] \nAz 1956-os forradalom és szabadságharc emlékére\n[/vc_column_text][/vc_column][/vc_row][vc_row][vc_column][vc_column_text] \nmagyar filmdráma | 96 perc | 2009\n12 éven aluliak számára a megtekintése\nnagykorú felügyelete mellett ajánlott\n \nA Kolorádó kid egy „szabálytalan” – nem heroizáló\, pátosztól mentes – ’56-os történet. Valójában a forradalmi események adnak hátteret egy személyes sors kibontakozásának. A főszereplő egy pesti Corvin-közös vagány\, aki a börtönben nemcsak az elnyomó rendszer igaztalan és kegyetlen voltával szembesül\, hanem egy sokkal fájóbb dologgal: a csalódással\, amelyet afelett érez\, hogy éppen azok árulták el\, akik iránt bizalommal volt. Mindezt egy sodró lendületű\, bevállalós film noir ábrázolja\, amelyben egymást váltják a realisztikus és posztmodern elemek\, s jó zene\, valamint meglepő ötletek tarkítják. Bizonnyal számíthat minden korosztály érdeklődésére. \n [/vc_column_text][/vc_column][/vc_row][vc_row][vc_column width=”1/2″][vc_column_text] \nSzereplők\n\n\n\n\nNagy Zsolt Kreuzer Béla\n\n\nSárosdi Lilla Iskiné\n\n\nKokics Péter Králik Jóska\n\n\n Szabó Zola Králik Géza\n\n\nFullajtár Andrea ügyész\n\n\nGáspár Tibor Koltai\n\n\nJordán Adél Csóka Joli\n\n\nRózsa György Bárkonferanszié\n\n\nKormos Mihály Szics Károly\nMenyhárt Jenő \nEgyed Attila \n\n\n Umbráth László riporter\n\n\n\n\n[/vc_column_text][/vc_column][vc_column width=”1/2″][vc_column_text] \nAlkotók\nrendező\, forgatókönyvíró:\nVágvölgyi B. András \nötlet:   Eörsi László \noperatőr:   Lukács Dávid \ndíszlet- és látványtervező: \nBanovich Tamás   \n [/vc_column_text][/vc_column][/vc_row][vc_row][vc_column][vc_column_text] \nA vetítés A Vértes Agorájában lesz. A helyfoglalás az érkezés sorrendjében történik\, a nagyterem befogadóképességéig.\nRegisztráció: Szűcs Orsolya\, szucs.orsolya@avertesagoraja.hu\, +36 30 479 1356\n[/vc_column_text][/vc_column][/vc_row] \n
URL:https://old.avertesagoraja.hu/program/kolorado-kid/
LOCATION:A Vértes Agorája\, Szent Borbála tér 1.\, Tatabánya\, 2800\, Magyarország
CATEGORIES:Programkínálat
ATTACH;FMTTYPE=image/jpeg:https://old.avertesagoraja.hu/wp-content/uploads/2020/08/800_400_Kolorado_kid.jpg
END:VEVENT
END:VCALENDAR