BEGIN:VCALENDAR
VERSION:2.0
PRODID:-//A Vértes Agoraja - ECPv4.9.13//NONSGML v1.0//EN
CALSCALE:GREGORIAN
METHOD:PUBLISH
X-WR-CALNAME:A Vértes Agoraja
X-ORIGINAL-URL:https://old.avertesagoraja.hu
X-WR-CALDESC:Events for A Vértes Agoraja
BEGIN:VTIMEZONE
TZID:Europe/Helsinki
BEGIN:DAYLIGHT
TZOFFSETFROM:+0200
TZOFFSETTO:+0300
TZNAME:EEST
DTSTART:20220327T010000
END:DAYLIGHT
BEGIN:STANDARD
TZOFFSETFROM:+0300
TZOFFSETTO:+0200
TZNAME:EET
DTSTART:20221030T010000
END:STANDARD
END:VTIMEZONE
BEGIN:VEVENT
DTSTART;TZID=Europe/Helsinki:20220924T140000
DTEND;TZID=Europe/Helsinki:20220924T190000
DTSTAMP:20260426T030709
CREATED:20220621T070523Z
LAST-MODIFIED:20220916T075952Z
UID:58572-1664028000-1664046000@old.avertesagoraja.hu
SUMMARY:Kincsesbánya | 2022
DESCRIPTION:Tatabánya és térsége legnagyobb vetélkedője\nVérbeli közösségi szórakozás\, az ügyesség\, a rátermettség és a tudás próbája. Egy vetélkedő\, amivel minden résztvevő nyer\, hiszen kalandos\, szórakoztató\, – Tatabánya emblematikus helyeit érintő – tartalmas játékra lehet számítani. S persze izgalomra és sok nevetésre\, nem utolsó sorban pedig értékes nyereményekre. \nFődíj\nVárosnéző túra Prágában 10 fő részére | 3 nap | 2 éjszaka! \nA vidám\, játékos megmérettetésre olyan – 10 fős – csapatok (családok\, baráti társaságok\, más közösségek) jelentkezését várjuk\, akik nem ijednek meg a csilléből aláhulló szénportól\, s szívesen részesei lennének egy újabb tatabányai kalandnak. \nLokálpatrióták előnyben! \nJelentkezési határidő: 2022. augusztus 29. \nA játékleírás ITT érhető el.\nTovábbi információ:\nLődi Péter | +36 30 617 1887 | lodi.peter@avertesagoraja.hu \n \n\n  \n \nFő támogató\nTURUL UTAZÁSI IRODA \nTámogatók\nSobri Jóska Kalandpark | Visegrádi Bobpálya | Gyémánt Fürdő\nA Mi Mozink | Vespa Pizzéria | Golden Bowling\nAz adatkezelési tájékoztató ITT érhető el.\n  \n  \n  \n
URL:https://old.avertesagoraja.hu/program/kincsesbanya2022/
CATEGORIES:Kincsesbánya,Programkínálat,Tatabánya75
ATTACH;FMTTYPE=image/jpeg:https://old.avertesagoraja.hu/wp-content/uploads/2022/06/20220924_Kincsesbanya_800x400.jpg
END:VEVENT
END:VCALENDAR