BEGIN:VCALENDAR
VERSION:2.0
PRODID:-//A Vértes Agoraja - ECPv4.9.13//NONSGML v1.0//EN
CALSCALE:GREGORIAN
METHOD:PUBLISH
X-WR-CALNAME:A Vértes Agoraja
X-ORIGINAL-URL:https://old.avertesagoraja.hu
X-WR-CALDESC:Events for A Vértes Agoraja
BEGIN:VTIMEZONE
TZID:Europe/Paris
BEGIN:DAYLIGHT
TZOFFSETFROM:+0100
TZOFFSETTO:+0200
TZNAME:CEST
DTSTART:20190331T010000
END:DAYLIGHT
BEGIN:STANDARD
TZOFFSETFROM:+0200
TZOFFSETTO:+0100
TZNAME:CET
DTSTART:20191027T010000
END:STANDARD
END:VTIMEZONE
BEGIN:VEVENT
DTSTART;TZID=Europe/Paris:20190529T090000
DTEND;TZID=Europe/Paris:20190529T130000
DTSTAMP:20260425T033430
CREATED:20190524T080845Z
LAST-MODIFIED:20190530T090333Z
UID:45321-1559120400-1559134800@old.avertesagoraja.hu
SUMMARY:Kihívás napja
DESCRIPTION:\n\n	\n\n        20190529_01\n\n        \n\n        \n            \n        \n\n         \n\n        \n\n            \n                \n                    ◄ Előző                \n            \n\n            \n                \n                    Következő                    ►\n                \n            \n\n            \n                Kép                1                 /                36            \n\n            \n                  \n            \n\n        \n    \n\n\n \nAtlétika | Birkózás | Cselgáncs | Ökölvívás | Karate\nRöplabda | Kézilabda | Labdarúgás | Amerikai futball\nBuborékfoci | Vívás | Teke | Sakk\nSegway | Kötélhúzás | Traktorhúzás \n \nIdén a Kihívás napját Tatabányán jelenlétével is támogatja \nEsztergályos Patrik\nifjúsági olimpiai bajnok párbajtőröző \n \nA Kihívás napja 1991 óta kerül megrendezésre május utolsó szerdáján\, amely a világ talán legnagyobb egy napon zajló lakossági sporteseménye.\nAz eredetileg „Challenge Day” néven ismertté vált játékban a világon – hazánkkal együtt – legalább 50 ország városai\, falvai vesznek részt. A rendezvény Magyarországon idén 27. alkalommal kerül megrendezésre.\nEddig 1596 hazai település vett részt az eseményen\, az ott élők lélekszáma meghaladja a 8 millió főt.\nAz esemény célja: a lakosság figyelmének felhívása a sportra\, a közösségi játékokra\, az egészséges életmódra\, kedvteremtés a rendszeres sportoláshoz. \nForrás: masport. hu\n  \n
URL:https://old.avertesagoraja.hu/program/kihivas-napja-2019/
LOCATION:Szent Borbála úti sporttelep\, Szent Borbála út\, Tatabánya\, Komárom-Esztergom\, 2800\, Magyarország
CATEGORIES:Programkínálat
ATTACH;FMTTYPE=image/jpeg:https://old.avertesagoraja.hu/wp-content/uploads/2019/05/Kihivas-napja_2019_800x400.jpg
END:VEVENT
END:VCALENDAR