BEGIN:VCALENDAR
VERSION:2.0
PRODID:-//A Vértes Agoraja - ECPv4.9.13//NONSGML v1.0//EN
CALSCALE:GREGORIAN
METHOD:PUBLISH
X-WR-CALNAME:A Vértes Agoraja
X-ORIGINAL-URL:https://old.avertesagoraja.hu
X-WR-CALDESC:Events for A Vértes Agoraja
BEGIN:VTIMEZONE
TZID:Europe/Helsinki
BEGIN:DAYLIGHT
TZOFFSETFROM:+0200
TZOFFSETTO:+0300
TZNAME:EEST
DTSTART:20230326T010000
END:DAYLIGHT
BEGIN:STANDARD
TZOFFSETFROM:+0300
TZOFFSETTO:+0200
TZNAME:EET
DTSTART:20231029T010000
END:STANDARD
END:VTIMEZONE
BEGIN:VEVENT
DTSTART;TZID=Europe/Helsinki:20230506T150000
DTEND;TZID=Europe/Helsinki:20230506T163000
DTSTAMP:20260425T141356
CREATED:20230222T200316Z
LAST-MODIFIED:20230222T200316Z
UID:60196-1683385200-1683390600@old.avertesagoraja.hu
SUMMARY:Kicsi Gesztenye Klub | A titokzatos mézrabló
DESCRIPTION:A gyerekek körében szeretett és népszerű Kicsi Gesztenye Klub új műsorral jelentkezik.  \nA titokzatos mézrabló című előadás lenyűgöző látványvilága\, mesés díszletei és vadonatúj dalai mind a gyerekek és szüleik szórakozását szolgálják. Az egy felvonásos színpadi showban a már korábban megismert legnagyobb slágerek mellett felcsendülnek az ősszel érkező III. évad legújabb dalai is. \nAz új színpadi showban Liza szerepében a csodás hangú Szilágyi Panni mutatkozik be. \n \n  \nGyakori kérdések:\n \nHány éves kortól ajánlott A Kicsi Gesztenye Klub?\nAz előadás két éves kortól ajánlott. \n  \nAzon 2 év alatti gyereknek is szükséges jegy\, aki a kísérője ölében üli végig az előadást?\nMinden látogatónak meg kell váltani a jegyet\, akkor is\, ha a kísérője ölben ül az előadás alatt. \n  \nTudok családi vagy csoportos jegyet váltani?\nNem\, családi és csoportos jegy sem váltható.\nA személyeknek egyenként meg kell vásárolniuk a jegyet. \n  \nMilyen hosszú a darab?\nAz előadás 70 perc szünet nélkül. \nTovábbi információ: https://www.kicsigesztenyeshow.com \n  \nJegyárak:\nVízszintes 1-5. sor 4.790 Ft\nVízszintes 6-8. sor 4.290 Ft\nEmelkedő 1-4. sor 4.290 Ft\nEmelkedő 5-10. sor 3.990 Ft \nBelépőjegyek online kaphatók. \n
URL:https://old.avertesagoraja.hu/program/kicsi-gesztenye-klub-a-titokzatos-mezrablo-2/
LOCATION:A Vértes Agorája\, Szent Borbála tér 1.\, Tatabánya\, 2800\, Magyarország
CATEGORIES:Befogadott rendezvény,Programkínálat
ATTACH;FMTTYPE=image/jpeg:https://old.avertesagoraja.hu/wp-content/uploads/2023/02/tatabánya_titokzatos_mezrablo_banner_800x400.jpg
END:VEVENT
END:VCALENDAR