BEGIN:VCALENDAR
VERSION:2.0
PRODID:-//A Vértes Agoraja - ECPv4.9.13//NONSGML v1.0//EN
CALSCALE:GREGORIAN
METHOD:PUBLISH
X-WR-CALNAME:A Vértes Agoraja
X-ORIGINAL-URL:https://old.avertesagoraja.hu
X-WR-CALDESC:Events for A Vértes Agoraja
BEGIN:VTIMEZONE
TZID:Europe/Helsinki
BEGIN:DAYLIGHT
TZOFFSETFROM:+0200
TZOFFSETTO:+0300
TZNAME:EEST
DTSTART:20240331T010000
END:DAYLIGHT
BEGIN:STANDARD
TZOFFSETFROM:+0300
TZOFFSETTO:+0200
TZNAME:EET
DTSTART:20241027T010000
END:STANDARD
END:VTIMEZONE
BEGIN:VEVENT
DTSTART;TZID=Europe/Helsinki:20240518T110000
DTEND;TZID=Europe/Helsinki:20240518T123000
DTSTAMP:20260425T201841
CREATED:20240212T100511Z
LAST-MODIFIED:20240212T100719Z
UID:62777-1716030000-1716035400@old.avertesagoraja.hu
SUMMARY:Kicsi Gesztenye Klub
DESCRIPTION:Liza szülinapja\n  \nA Kicsi Gesztenye Klub ismertetője: \nA JimJam csatornán hatalmas sikerrel futó ismeretterjesztő mesesorozat egyfelvonásos színpadi show-val\, varázslatos hangulattal és látványelemekkel vár mindenkit\, ahol a nevetés garantált! \nAz idei\, vadonatúj előadásunkban\, páratlan kalandokban lehet részetek és segítségetekkel a végtelenül bájos\, csodás hangú Liza titkos születésnapi buliján is részt vehettek!\nLiza barátai\, a 4 őselemet szimbolizáló karakter\,  Olly\, Gesztenye\, Napsugár és Lufipofi izgatottan\, és minden fondorlatot bevetve készülnek a nagy napra. \nNevetés\, tánc és rengeteg éneklés vár rátok\, s felcsendülnek a már korábban megismert legnagyobb slágereink\, és a III. évad legújabb dalai is! \nGyertek el\, kalandozzatok a Kicsi Gesztenye Klubbal és ismerjétek meg a világot úgy\, ahogy azt a klub barátságos és kíváncsi szereplői látják! \n  \nBelépőjegyek kizárólag online kaphatók.  \n             Jegyár:                \nvízszintes 1-5. 4.990 Ft\nvízszintes 6-8. 4.790 Ft\nemelkedő 1-10. 4.490 Ft \n  \n \n  \nGyakori kérdések:\n \nHány éves kortól ajánlott A Kicsi Gesztenye Klub?\nAz előadás két éves kortól ajánlott. \n  \nAzon 2 év alatti gyereknek is szükséges jegy\, aki a kísérője ölében üli végig az előadást?\nMinden látogatónak meg kell váltani a jegyet\, akkor is\, ha a kísérője ölben ül az előadás alatt. \n  \nTudok családi vagy csoportos jegyet váltani?\nNem\, családi és csoportos jegy sem váltható.\nA személyeknek egyenként meg kell vásárolniuk a jegyet. \n  \nMilyen hosszú a darab?\nAz előadás 70 perc szünet nélkül. \nTovábbi információ: Kicsi Gesztenye Show \n
URL:https://old.avertesagoraja.hu/program/kicsi-gesztenye-klub-2/
LOCATION:A Vértes Agorája\, Szent Borbála tér 1.\, Tatabánya\, 2800\, Magyarország
CATEGORIES:Befogadott rendezvény,Programkínálat
ATTACH;FMTTYPE=image/png:https://old.avertesagoraja.hu/wp-content/uploads/2024/02/2024_LIZA-SZÜLINAPJA_TATABÁNYA_800X400.png
END:VEVENT
END:VCALENDAR