BEGIN:VCALENDAR
VERSION:2.0
PRODID:-//A Vértes Agoraja - ECPv4.9.13//NONSGML v1.0//EN
CALSCALE:GREGORIAN
METHOD:PUBLISH
X-WR-CALNAME:A Vértes Agoraja
X-ORIGINAL-URL:https://old.avertesagoraja.hu
X-WR-CALDESC:Events for A Vértes Agoraja
BEGIN:VTIMEZONE
TZID:Europe/Paris
BEGIN:DAYLIGHT
TZOFFSETFROM:+0100
TZOFFSETTO:+0200
TZNAME:CEST
DTSTART:20220327T010000
END:DAYLIGHT
BEGIN:STANDARD
TZOFFSETFROM:+0200
TZOFFSETTO:+0100
TZNAME:CET
DTSTART:20221030T010000
END:STANDARD
END:VTIMEZONE
BEGIN:VEVENT
DTSTART;TZID=Europe/Paris:20220128T180000
DTEND;TZID=Europe/Paris:20220128T193000
DTSTAMP:20260425T171940
CREATED:20211216T115725Z
LAST-MODIFIED:20211216T115747Z
UID:57137-1643392800-1643398200@old.avertesagoraja.hu
SUMMARY:Kettőskereszt - vagy amit akartok
DESCRIPTION:Jegyvásárlás\n  \nDombóvári István önálló estje\nÉletünk jelentős része a közösségi oldalakon zajlik\, ami alaposan átrendezte és újraalkotta a szokásainkat. \nDe vajon tényleg ismerjük az ismerőseinket?\nBiztos\, hogy szeret minket az\, aki folyamatosan felfelé tartott mutatóujjat küld mindenre?\nMit akarhat valójában tőlünk\, aki rendszeresen megbök?\nÉs egyébként hová tettem a lakáskulcsomat??? \nDombóvári István legújabb önálló estjében többek között ezekre a mindenkit érintő kérdésekre keres válaszokat. \nStand up\, jelenet és zene másfél órában! \nForrás: dumaszinhaz.hu\n\nMűsorvezető\nBellus István \n\nBelépőjegyek a tatabányai IBUSZ Utazási Irodában és a Líra Könyvesboltban\, valamint online vásárolhatók:\nVízszintes 1-3  4.190 Ft\nVízszintes 4-8  3.690 Ft\nEmelkedő 1-3  4.190 Ft\nEmelkedő 4-10 3.690 Ft\n
URL:https://old.avertesagoraja.hu/program/kettoskereszt/
LOCATION:A Vértes Agorája\, Szent Borbála tér 1.\, Tatabánya\, 2800\, Magyarország
CATEGORIES:Befogadott rendezvény,Programkínálat
ATTACH;FMTTYPE=image/png:https://old.avertesagoraja.hu/wp-content/uploads/2021/12/20220128_Dumaszinhaz_800x400.png
END:VEVENT
END:VCALENDAR