BEGIN:VCALENDAR
VERSION:2.0
PRODID:-//A Vértes Agoraja - ECPv4.9.13//NONSGML v1.0//EN
CALSCALE:GREGORIAN
METHOD:PUBLISH
X-WR-CALNAME:A Vértes Agoraja
X-ORIGINAL-URL:https://old.avertesagoraja.hu
X-WR-CALDESC:Events for A Vértes Agoraja
BEGIN:VTIMEZONE
TZID:Europe/Paris
BEGIN:DAYLIGHT
TZOFFSETFROM:+0100
TZOFFSETTO:+0200
TZNAME:CEST
DTSTART:20180325T010000
END:DAYLIGHT
BEGIN:STANDARD
TZOFFSETFROM:+0200
TZOFFSETTO:+0100
TZNAME:CET
DTSTART:20181028T010000
END:STANDARD
END:VTIMEZONE
BEGIN:VEVENT
DTSTART;TZID=Europe/Paris:20180427T090000
DTEND;TZID=Europe/Paris:20180427T160000
DTSTAMP:20260425T025956
CREATED:20180421T080720Z
LAST-MODIFIED:20180425T125711Z
UID:35676-1524819600-1524844800@old.avertesagoraja.hu
SUMMARY:XXVII. Weöres Sándor Országos Gyermekszínjátszó Találkozó Komárom-Esztergom megyei bemutatói
DESCRIPTION:Program\n9:00-14:00\nFellépő csoportok bemutatói\nA bárányok nem hallgatnak – Tatabánya | Ficseri – Tatabánya | KSZCS – Tata | Mi a szösz? – Tatabánya | Műkedvelők – Tatabánya | STOKicsi\, STOKI színkör – Nyergesújfalu | Szálka Stúdió – Tatabánya | Színészpalánták – Tatabánya | Tavirózsa Színjátszó Csoport (kicsik és nagyok) – Tardos | Zsák Bolha – Tata \n14:00-15:00\nA mindent látó királylány\nmesejáték\, a Soltis Lajos Színház előadásában\nA darabról bővebben ITT olvashat. \n(Alsó tagozatosoknak ajánljuk!) \n\n15:00\nEredményhirdetés \nA program ingyenes\, szabadon látogatható.\n  \n \n\n
URL:https://old.avertesagoraja.hu/program/kem-weores/
LOCATION:A Vértes Agorája\, Szent Borbála tér 1.\, Tatabánya\, 2800\, Magyarország
CATEGORIES:Programkínálat
ATTACH;FMTTYPE=image/jpeg:https://old.avertesagoraja.hu/wp-content/uploads/2018/04/Weores_2018_800x400.jpg
END:VEVENT
END:VCALENDAR