BEGIN:VCALENDAR
VERSION:2.0
PRODID:-//A Vértes Agoraja - ECPv4.9.13//NONSGML v1.0//EN
CALSCALE:GREGORIAN
METHOD:PUBLISH
X-WR-CALNAME:A Vértes Agoraja
X-ORIGINAL-URL:https://old.avertesagoraja.hu
X-WR-CALDESC:Events for A Vértes Agoraja
BEGIN:VTIMEZONE
TZID:Europe/Paris
BEGIN:DAYLIGHT
TZOFFSETFROM:+0100
TZOFFSETTO:+0200
TZNAME:CEST
DTSTART:20190331T010000
END:DAYLIGHT
BEGIN:STANDARD
TZOFFSETFROM:+0200
TZOFFSETTO:+0100
TZNAME:CET
DTSTART:20191027T010000
END:STANDARD
END:VTIMEZONE
BEGIN:VEVENT
DTSTART;TZID=Europe/Paris:20190418T090000
DTEND;TZID=Europe/Paris:20190418T150000
DTSTAMP:20260425T172434
CREATED:20190416T082110Z
LAST-MODIFIED:20190425T060544Z
UID:44193-1555578000-1555599600@old.avertesagoraja.hu
SUMMARY:XXVIII. Weöres Sándor Országos Gyermekszínjátszó Találkozó Komárom-Esztergom megyei bemutatói
DESCRIPTION:\n\n	\n\n        20190418_01\n\n        \n\n        \n            \n        \n\n         \n\n        \n\n            \n                \n                    ◄ Előző                \n            \n\n            \n                \n                    Következő                    ►\n                \n            \n\n            \n                Kép                1                 /                34            \n\n            \n                  \n            \n\n        \n    \n\n\n \nProgram\n9:00-12:00\nFellépő csoportok bemutatói\nFellépő csoportok:\nAZOLIK – Kodály Zoltán Általános Iskola és AMI\, Tatabánya\nFICSERI – Szent Margit Általános Iskola\, Tatabánya\nKAPTÁR – Kőkúti Általános Iskola\, Tata\nKSZCS – Kőkúti Általános Iskola\, Tata\nPICIK ÉS KICSIK – Kodály Zoltán Általános Iskola és AMI\, Tatabánya\nSZÁLKA STÚDIÓ – Tatabányai Árpád Gimnázium\nZSÁK BOLHA – Kenderke AMI és Kőkúti Általános Iskola\, Tata \n\n13:00-14:00\nA háromágú tölgyfa tündére\nFabók Mariann bábszínháza\n \n14:00\nMinősítések átadása\nA program ingyenes\, szabadon látogatható.\n  \n  \n\n
URL:https://old.avertesagoraja.hu/program/kem-weores-2019/
LOCATION:A Vértes Agorája\, Szent Borbála tér 1.\, Tatabánya\, 2800\, Magyarország
CATEGORIES:Programkínálat
ATTACH;FMTTYPE=image/jpeg:https://old.avertesagoraja.hu/wp-content/uploads/2019/04/Weores_2019_800x400.jpg
END:VEVENT
END:VCALENDAR