BEGIN:VCALENDAR
VERSION:2.0
PRODID:-//A Vértes Agoraja - ECPv4.9.13//NONSGML v1.0//EN
CALSCALE:GREGORIAN
METHOD:PUBLISH
X-WR-CALNAME:A Vértes Agoraja
X-ORIGINAL-URL:https://old.avertesagoraja.hu
X-WR-CALDESC:Events for A Vértes Agoraja
BEGIN:VTIMEZONE
TZID:Europe/Paris
BEGIN:DAYLIGHT
TZOFFSETFROM:+0100
TZOFFSETTO:+0200
TZNAME:CEST
DTSTART:20190331T010000
END:DAYLIGHT
BEGIN:STANDARD
TZOFFSETFROM:+0200
TZOFFSETTO:+0100
TZNAME:CET
DTSTART:20191027T010000
END:STANDARD
END:VTIMEZONE
BEGIN:VEVENT
DTSTART;TZID=Europe/Paris:20190428T170000
DTEND;TZID=Europe/Paris:20190428T193000
DTSTAMP:20260426T015433
CREATED:20190402T081905Z
LAST-MODIFIED:20190408T123249Z
UID:43851-1556470800-1556479800@old.avertesagoraja.hu
SUMMARY:Jótékonysági gála a Skanzenért
DESCRIPTION:A tatabányai Bányászati és Ipari Skanzen különleges értéke a városnak: nemzetközi  viszonylatban is jelentős kiállítóhely\, emlékhely\, turisztikai látványosság\, művészeti központ\, közösségi színtér. A gála jegybevétele teljes egészében a Szabadtéri Bányászati Múzeum Alapítvány számlájára kerül és a skanzen fejlesztésére fordítódik. \nA műsorban fellépnek:\nHerczku Ági és a Banda\nMagashegyi Underground Akusztik\nBányász Táncegyüttes\nDűvő Zenekar\nErkel Ferenc Zeneiskola Vonós Kamarazenekara és szólistái:\nAltdorfer Luca\nLaskay Zsoltné\nSomorjai Ildikó\nWeiszné Romhányi Krisztina\nWeisz Péter \n Az est fővédnöke Schmidt Csaba\, Tatabánya polgármestere\n\n \nJegyek kaphatók A Vértes Agorája jegypénztárában és a Fortuna jegyirodában.\nBelépőjegy: 3.500 Ft\nTámogatói jegy: 1.000 Forinttól\nUtalványt\, valamint Cafeteria- és SZÉP Kártyát erre a rendezvényre nem áll módunkban elfogadni.\nBővebb információ\n \n \n\n
URL:https://old.avertesagoraja.hu/program/jotekonysagi-gala-a-skanzenert/
LOCATION:A Vértes Agorája\, Szent Borbála tér 1.\, Tatabánya\, 2800\, Magyarország
CATEGORIES:Programkínálat
ATTACH;FMTTYPE=image/jpeg:https://old.avertesagoraja.hu/wp-content/uploads/2019/04/torony_800x400-2.jpg
END:VEVENT
END:VCALENDAR