BEGIN:VCALENDAR
VERSION:2.0
PRODID:-//A Vértes Agoraja - ECPv4.9.13//NONSGML v1.0//EN
CALSCALE:GREGORIAN
METHOD:PUBLISH
X-WR-CALNAME:A Vértes Agoraja
X-ORIGINAL-URL:https://old.avertesagoraja.hu
X-WR-CALDESC:Events for A Vértes Agoraja
BEGIN:VTIMEZONE
TZID:Europe/Paris
BEGIN:DAYLIGHT
TZOFFSETFROM:+0100
TZOFFSETTO:+0200
TZNAME:CEST
DTSTART:20210328T010000
END:DAYLIGHT
BEGIN:STANDARD
TZOFFSETFROM:+0200
TZOFFSETTO:+0100
TZNAME:CET
DTSTART:20211031T010000
END:STANDARD
END:VTIMEZONE
BEGIN:VEVENT
DTSTART;TZID=Europe/Paris:20211113T140000
DTEND;TZID=Europe/Paris:20211113T180000
DTSTAMP:20260425T030735
CREATED:20211013T104306Z
LAST-MODIFIED:20211111T081538Z
UID:56200-1636812000-1636826400@old.avertesagoraja.hu
SUMMARY:Indiános családi nap
DESCRIPTION:A hulló levelek hava után a Sas-szikla lábánál tábort ütnek a síksági indiánok. Összegyűlnek a sziúk\, a feketelábúak\, a varjúk és más törzsek fiai\, lányai. Várunk téged is a nagy törzsi játékokra! Ha békés szándékkal jössz\, testvérként fogadunk\, ha kiástad a csatabárdot\, akkor a hadiösvényen találkozunk! Bárhogy is lesz\, a végén elszívjuk a békepipát és mesélünk egymásnak arról\, milyen volt a \n\ntipifestés\nbölényvadászat\nbékeidő\nnyomolvasás\narcfestés\nharcos próba\nkínzócölöp \nindián mesék\n\nÖltözz be jól\, mert hideg szelek fújnak és lesz jelmezverseny! Apa és anya is bújjon ki a bölénybőr alól: kelleni fog a segítségük a Préri Bölcse vetélkedőn.  \nA Nagy Szellem vigyázzon rád! \n \nTervezett program:\n14:00-17:30 h    Indián próba (pontgyűjtő játék)\n15:00 h                Jelmezverseny\n16:00 h                Préri Bölcse kvíz\n17:30 h                Tombola \n \nA program Tatabánya MJV Önkormányzata\nRendezvény 2020 pályázata támogatásával valósul meg.\n
URL:https://old.avertesagoraja.hu/program/indianos-csaladi-nap-2021/
LOCATION:A Vértes Agorája\, Szent Borbála tér 1.\, Tatabánya\, 2800\, Magyarország
CATEGORIES:Programkínálat
ATTACH;FMTTYPE=image/jpeg:https://old.avertesagoraja.hu/wp-content/uploads/2020/10/800x400_indianos_nap.jpg
END:VEVENT
END:VCALENDAR