BEGIN:VCALENDAR
VERSION:2.0
PRODID:-//A Vértes Agoraja - ECPv4.9.13//NONSGML v1.0//EN
CALSCALE:GREGORIAN
METHOD:PUBLISH
X-WR-CALNAME:A Vértes Agoraja
X-ORIGINAL-URL:https://old.avertesagoraja.hu
X-WR-CALDESC:Events for A Vértes Agoraja
BEGIN:VTIMEZONE
TZID:Europe/Helsinki
BEGIN:DAYLIGHT
TZOFFSETFROM:+0200
TZOFFSETTO:+0300
TZNAME:EEST
DTSTART:20230326T010000
END:DAYLIGHT
BEGIN:STANDARD
TZOFFSETFROM:+0300
TZOFFSETTO:+0200
TZNAME:EET
DTSTART:20231029T010000
END:STANDARD
END:VTIMEZONE
BEGIN:VEVENT
DTSTART;TZID=Europe/Helsinki:20231005T140000
DTEND;TZID=Europe/Helsinki:20231005T200000
DTSTAMP:20260425T141207
CREATED:20230927T092803Z
LAST-MODIFIED:20231004T130524Z
UID:61664-1696514400-1696536000@old.avertesagoraja.hu
SUMMARY:Idősek napja az Agorában
DESCRIPTION:Az idősek megbecsülését\, a velük való törődést szívünkből fakadó kötelességünknek tartjuk. Október 5-én A Vértes Agorájában szeretnénk viszonozni egy cseppet abból a gondoskodásból és odafigyelésből\, amit nap mint nap tőlük kapunk. Az Idősek világnapja alkalmából szűrővizsgálatokkal\, előadásokkal\, jóga bemutatóval\, masszázzsal\, közös tánccal és egy hangulatos koncerttel várjuk az időseket\, Önöket A Vértes Agorájában. \n  \nA program ingyenes\, azonban felhívjuk szíves figyelmüket\, hogy a nagytermi programok (17 órától) csak regisztrációs jeggyel látogathatók. A maximálisan igényelhető jegyek száma: 5 db/fő. \nRegisztrálni és a jegyeket átvenni A Vértes Agorája jegypénztárában lehet. \n  \nProgramok: \n\n14:00-18:00 \nSzűrővizsgálatok\, mérések\, egészségügyi tanácsadás\, masszázs \n  \n14:30  \nJóga bemutató – Tátrai Zsuzsannával  | Kamaraterem \n  \n14:30 \nEgészségügyi bemutató – MED-PERFEKT-MED Kft. | Emeleti galéria \n  \n15:30 \nTáncoljunk együtt! – Szenior örömtánc Hegyiné Mohos Judittal | Kamaraterem \n  \n16:00 \nAz egészséges életmód alappillérei – Kőpataki Krisztina előadása | Emeleti galéria \n  \n17:00 \nIdősek köszöntése\, alkotó pályázat eredményhirdetése\, díjátadó | Nagyterem \n  \n17:15 \nAradi-Varga Show | Nagyterem  \n(regisztrációs jeggyel látogatható) \n  \n18:30 \nSzécsi Piano – Mujahid Zoltán (ének) és Lőrincz Ádám (zongora) koncertje | Nagyterem \n(regisztrációs jeggyel látogatható) \n  \n\n  \n﻿  \n
URL:https://old.avertesagoraja.hu/program/idosek-napja-az-agoraban/
LOCATION:A Vértes Agorája\, Szent Borbála tér 1.\, Tatabánya\, 2800\, Magyarország
CATEGORIES:Programkínálat,Saját szervezésű rendezvény
ATTACH;FMTTYPE=image/jpeg:https://old.avertesagoraja.hu/wp-content/uploads/2023/09/20231005_Idosek_napja_800x400__uj.jpg
END:VEVENT
END:VCALENDAR