BEGIN:VCALENDAR
VERSION:2.0
PRODID:-//A Vértes Agoraja - ECPv4.9.13//NONSGML v1.0//EN
CALSCALE:GREGORIAN
METHOD:PUBLISH
X-WR-CALNAME:A Vértes Agoraja
X-ORIGINAL-URL:https://old.avertesagoraja.hu
X-WR-CALDESC:Events for A Vértes Agoraja
BEGIN:VTIMEZONE
TZID:Europe/Paris
BEGIN:DAYLIGHT
TZOFFSETFROM:+0100
TZOFFSETTO:+0200
TZNAME:CEST
DTSTART:20220327T010000
END:DAYLIGHT
BEGIN:STANDARD
TZOFFSETFROM:+0200
TZOFFSETTO:+0100
TZNAME:CET
DTSTART:20221030T010000
END:STANDARD
END:VTIMEZONE
BEGIN:VEVENT
DTSTART;TZID=Europe/Paris:20220310T180000
DTEND;TZID=Europe/Paris:20220310T193000
DTSTAMP:20260425T172141
CREATED:20220124T142701Z
LAST-MODIFIED:20220124T142728Z
UID:57540-1646935200-1646940600@old.avertesagoraja.hu
SUMMARY:Huzat | Leskovics Gábor 'Lecsó'
DESCRIPTION:Provokatív irodalmi beszélgetések\,\nzenével fűszerezve\nA minőség ablaknyitogatója\nSopotnik Zoltán\, József Attila-díjas költő\nMárciustól újra végigsöpör az Agorán a Huzat!\nAz idei első vendég Leskovics Gábor\, a Pál Utcai Fiúk alapító frontembere\, illetve a Kiscsillag alapítótagja. ‘Lecsó’ úgy lett népszerű\, hogy ennek lehetőségét valójában igyekezett elkerülni. Saját bevallása szerint a klubokban van igazán otthon\, nagyszínpadról tömegeket tapsoltatni nem az ő világa… S a ’sztársággal’ olyan súlyokat is kapott\, amiket egyáltalán nem akart vállalni. \n„A világhír az egyáltalán nem érdekelt. Én nem akartam embereket lámpásként kivezetni a sötétségből\, és megmutatni a helyes utat. Én zenélni akartam\, megírni a saját dalaimat\, amik hogyha másnak is tetszenek\, akkor örülök. Nem akartam sportcsarnokban tömegeket irányítani. Ebben a szerepben nem lennék hiteles.” (Részlet egy hvg.hu-n megjelent interjúból.) \nA kultúra mutatja az utat – Huzat!\n \nA program a Nemzeti Kulturális Alap\nSzépirodalom Kollégiuma támogatásával valósul meg \n \n \n
URL:https://old.avertesagoraja.hu/program/huzat-2022-03-10/
LOCATION:A Vértes Agorája\, Szent Borbála tér 1.\, Tatabánya\, 2800\, Magyarország
CATEGORIES:Programkínálat
ATTACH;FMTTYPE=image/png:https://old.avertesagoraja.hu/wp-content/uploads/2022/01/20220310_Huzat_800x400.png
END:VEVENT
END:VCALENDAR