BEGIN:VCALENDAR
VERSION:2.0
PRODID:-//A Vértes Agoraja - ECPv4.9.13//NONSGML v1.0//EN
CALSCALE:GREGORIAN
METHOD:PUBLISH
X-WR-CALNAME:A Vértes Agoraja
X-ORIGINAL-URL:https://old.avertesagoraja.hu
X-WR-CALDESC:Events for A Vértes Agoraja
BEGIN:VTIMEZONE
TZID:Europe/Helsinki
BEGIN:DAYLIGHT
TZOFFSETFROM:+0200
TZOFFSETTO:+0300
TZNAME:EEST
DTSTART:20220327T010000
END:DAYLIGHT
BEGIN:STANDARD
TZOFFSETFROM:+0300
TZOFFSETTO:+0200
TZNAME:EET
DTSTART:20221030T010000
END:STANDARD
END:VTIMEZONE
BEGIN:VEVENT
DTSTART;TZID=Europe/Helsinki:20220319T190000
DTEND;TZID=Europe/Helsinki:20220319T210000
DTSTAMP:20260425T184707
CREATED:20220120T165639Z
LAST-MODIFIED:20220126T081350Z
UID:57527-1647716400-1647723600@old.avertesagoraja.hu
SUMMARY:Honeybeast | Cirkusz turné 2022
DESCRIPTION:Belépőjegyek\n  \nA Honeybeast az elmúlt években olyan produkciókat állított az ország legfontosabb és legpatinásabb koncerttermei színpadára\, amelyek igazolták\, hogy a popzene a komolyzenével vagy akár a kortárs tánccal ötvözve képes új minőséget teremteni\, ezzel tágítva a szórakoztatónak aposztrofált műfaj határait. \nA Symphoney és a Legyen tánc! turné – klasszikus zenészekkel\, illetve a Szegedi Kortárs Balett közreműködésével színpadra álmodott – valamennyi előadása telt házak előtt bizonyította\, hogy a Honeybeast mára a hazai könnyűzenei színtér legfontosabb zenekarai közé emelkedett.\nKözel másfél év kihagyás\, de egy koncertekben már bővelkedő nyár után\, 2022 tavaszán a zenekar újból turnéra indul. A helyszínek ismét a jól ismert koncerttermek és művelődési házak. Ám ezúttal a reflektorfény egyedül a Honeybeast-é: a zenekar önálló koncertet ad\, így a jól ismert dalok puszta valójukban mutatják meg\, hogy az együttes fanyar humorú popzenéje egyszerre lehet szelíd és felkavaró\, fegyelmezett és játékos vagy színesen harsány\, akár a cirkusz. A turné valamennyi állomását Paulina (X-Faktor) minikoncertje teszi igazi egész estés szórakozássá. \n \n\nA belépőjegyek ára egységesen 5.900 Ft. A Vértes Agorája jegypénztárában és online is kaphatók.\nUtalványt\, valamint Cafeteria- és SZÉP Kártyát elfogadunk.\nBővebb információ\n\n \n \n
URL:https://old.avertesagoraja.hu/program/honeybeast-2022/
LOCATION:A Vértes Agorája\, Szent Borbála tér 1.\, Tatabánya\, 2800\, Magyarország
CATEGORIES:Befogadott rendezvény,Programkínálat
ATTACH;FMTTYPE=image/jpeg:https://old.avertesagoraja.hu/wp-content/uploads/2022/01/honeybeast_tatabanya_800x400.jpg
END:VEVENT
END:VCALENDAR