BEGIN:VCALENDAR
VERSION:2.0
PRODID:-//A Vértes Agoraja - ECPv4.9.13//NONSGML v1.0//EN
CALSCALE:GREGORIAN
METHOD:PUBLISH
X-WR-CALNAME:A Vértes Agoraja
X-ORIGINAL-URL:https://old.avertesagoraja.hu
X-WR-CALDESC:Events for A Vértes Agoraja
BEGIN:VTIMEZONE
TZID:Europe/Helsinki
BEGIN:DAYLIGHT
TZOFFSETFROM:+0200
TZOFFSETTO:+0300
TZNAME:EEST
DTSTART:20230326T010000
END:DAYLIGHT
BEGIN:STANDARD
TZOFFSETFROM:+0300
TZOFFSETTO:+0200
TZNAME:EET
DTSTART:20231029T010000
END:STANDARD
END:VTIMEZONE
BEGIN:VEVENT
DTSTART;TZID=Europe/Helsinki:20230429T190000
DTEND;TZID=Europe/Helsinki:20230429T203000
DTSTAMP:20260425T181721
CREATED:20230402T103559Z
LAST-MODIFIED:20230402T103737Z
UID:60437-1682794800-1682800200@old.avertesagoraja.hu
SUMMARY:Hogyan értsük félre a nőket?
DESCRIPTION:CSÁNYI SÁNDOR VÍGJÁTÉKA\nMi a teendő abban az esetben\, ha az ember a szülőszoba ajtajában döbben rá arra\, hogy nemcsak a gyerekekkel nem tud bánni\, a nőkkel sem? Miért a mi hibánk\, ha Ők rosszat álmodnak? Miért baj\, ha őszintén válaszolunk arra kérdésre\, hogy fogytam-e? Érdemes-e\, a friss jogosítvánnyal vezető feleségünknek tanácsokat osztogatni a forgalomban? Eljön-e az a pillanat egy nő életében\, amikor azt mondja: Köszönöm\, van elég cipőm\, nem kell több. Illetve\, hogy mindezek ellenére\, miért dobban meg mégis a szívünk\, ha belép a szobába? \nNos\, ezekre a kérdésekre nem tud választ adni az előadás. Viszont számos hasonló kérdést vet fel az együttélés nehézségeiről\, szépségeiről\, öröméről. (Magunk között szólva: inkább nehézségeiről.) \nEgyszemélyes vígjáték\, nyolc különböző karakter\, nyolcvan percben. Csányi Sándor előadásában. Egy részben\, szünet nélkül. \n\nBelépőjegyeket csak online lehet vásárolni. \nJegyárak:\nvízszintes 1-8. sor 7.900 Ft\nemelkedő 1-2. sor 7.900 Ft\nemelkedő 3-10. sor 6.900 Ft \n
URL:https://old.avertesagoraja.hu/program/hogyan-ertsuk-felre-a-noket/
LOCATION:A Vértes Agorája\, Szent Borbála tér 1.\, Tatabánya\, 2800\, Magyarország
CATEGORIES:Befogadott rendezvény,Programkínálat
ATTACH;FMTTYPE=image/jpeg:https://old.avertesagoraja.hu/wp-content/uploads/2023/04/20230429_Csanyi_800x400.jpg
END:VEVENT
END:VCALENDAR