BEGIN:VCALENDAR
VERSION:2.0
PRODID:-//A Vértes Agoraja - ECPv4.9.13//NONSGML v1.0//EN
CALSCALE:GREGORIAN
METHOD:PUBLISH
X-WR-CALNAME:A Vértes Agoraja
X-ORIGINAL-URL:https://old.avertesagoraja.hu
X-WR-CALDESC:Events for A Vértes Agoraja
BEGIN:VTIMEZONE
TZID:Europe/Paris
BEGIN:DAYLIGHT
TZOFFSETFROM:+0100
TZOFFSETTO:+0200
TZNAME:CEST
DTSTART:20200329T010000
END:DAYLIGHT
BEGIN:STANDARD
TZOFFSETFROM:+0200
TZOFFSETTO:+0100
TZNAME:CET
DTSTART:20201025T010000
END:STANDARD
END:VTIMEZONE
BEGIN:VEVENT
DTSTART;TZID=Europe/Paris:20200327T190000
DTEND;TZID=Europe/Paris:20200327T203000
DTSTAMP:20260425T110047
CREATED:20200124T091024Z
LAST-MODIFIED:20200318T121834Z
UID:50619-1585335600-1585341000@old.avertesagoraja.hu
SUMMARY:Hidas Quartett
DESCRIPTION:A rendezvény elmarad. A belépőjegyek visszaváltására – a vásárlás helyén – lesz lehetőség.\nEnnek menetéről bővebb információ ITT érhető el.\n \n  \n\nFiatalság\, szépség\, harmónia és az együttlét öröme jellemzi a zeneakadémistákból alakult vonósnégyest. A friss formációt egy testvér- és egy házaspár alkotja\, akik egymásból merítenek inspirációt\, új szintre emelve a család fogalmát. Az összHANG is egészen más értelmet nyer\, amikor ez a tehetséges quartett a színpadra lép és megszólaltatja a zeneirodalom klasszikusait. \nAz együttes tagjai:\nHidasné Reiter Boglárka (hegedű)\nBlahunka Adrienn (hegedű)\nHidas János (brácsa)\nBlahunka Flóra (cselló). \nMűsor: \nJ.S. Bach: d-moll partita No.2\,  BWV 1004\,  Chaconne\nF. Mendelssohn-Bartholdy: a-moll vonósnégyes op. 13. no.2\nD.D. Sosztakovics: c-moll vonósnégyes op.110. no. 8 \n \nBelépőjegyek A Vértes Agorája jegypénztárában is kaphatók.\n2.300 Ft (Teljes ár)\n1.800 Ft (Korai elővételben\, 2020. február 29-éig)\nUtalványt\, valamint Cafeteria- és SZÉP Kártyát erre a rendezvényre elfogadunk.\nBővebb információ\n  \n \nA fesztivál fő támogatója a \n
URL:https://old.avertesagoraja.hu/program/hidas-quartett/
LOCATION:A Vértes Agorája\, Szent Borbála tér 1.\, Tatabánya\, 2800\, Magyarország
CATEGORIES:Programkínálat,Saját szervezésű rendezvény
ATTACH;FMTTYPE=image/jpeg:https://old.avertesagoraja.hu/wp-content/uploads/2020/01/2020_TTF_800_400_hidas_quartett.jpg
END:VEVENT
END:VCALENDAR