BEGIN:VCALENDAR
VERSION:2.0
PRODID:-//A Vértes Agoraja - ECPv4.9.13//NONSGML v1.0//EN
CALSCALE:GREGORIAN
METHOD:PUBLISH
X-WR-CALNAME:A Vértes Agoraja
X-ORIGINAL-URL:https://old.avertesagoraja.hu
X-WR-CALDESC:Events for A Vértes Agoraja
BEGIN:VTIMEZONE
TZID:Europe/Paris
BEGIN:DAYLIGHT
TZOFFSETFROM:+0100
TZOFFSETTO:+0200
TZNAME:CEST
DTSTART:20190331T010000
END:DAYLIGHT
BEGIN:STANDARD
TZOFFSETFROM:+0200
TZOFFSETTO:+0100
TZNAME:CET
DTSTART:20191027T010000
END:STANDARD
END:VTIMEZONE
BEGIN:VEVENT
DTSTART;TZID=Europe/Paris:20191124T110000
DTEND;TZID=Europe/Paris:20191124T120000
DTSTAMP:20260425T025905
CREATED:20190916T083758Z
LAST-MODIFIED:20191126T074307Z
UID:46976-1574593200-1574596800@old.avertesagoraja.hu
SUMMARY:Játsszunk együtt!
DESCRIPTION:\n\n\n    	\n        [Diavetítés indítása]\n		\n	\n			\n				\n				        \n            \n                \n            \n        \n							 \n			\n        \n				\n				        \n            \n                \n            \n        \n							 \n			\n        \n				\n				        \n            \n                \n            \n        \n							 \n			\n        \n				\n				        \n            \n                \n            \n        \n							 \n			\n        \n				\n				        \n            \n                \n            \n        \n							 \n			\n        \n				\n				        \n            \n                \n            \n        \n							 \n			\n        \n				\n				        \n            \n                \n            \n        \n							 \n			\n        \n				\n				        \n            \n                \n            \n        \n							 \n			\n        \n				\n				        \n            \n                \n            \n        \n							 \n			\n        \n				\n				        \n            \n                \n            \n        \n							 \n			\n        \n				\n				        \n            \n                \n            \n        \n							 \n			\n        \n				\n				        \n            \n                \n            \n        \n							 \n			\n        \n				\n				        \n            \n                \n            \n        \n							 \n			\n        \n				\n				        \n            \n                \n            \n        \n							 \n			\n        \n				\n				        \n            \n                \n            \n        \n							 \n			\n        \n				\n				        \n            \n                \n            \n        \n							 \n			\n        \n				\n				        \n            \n                \n            \n        \n							 \n			\n        \n				\n				        \n            \n                \n            \n        \n							 \n			\n        \n				\n				        \n            \n                \n            \n        \n							 \n			\n        \n				\n				        \n            \n                \n            \n        \n							 \n			\n        \n				\n				        \n            \n                \n            \n        \n							 \n			\n        \n				\n				        \n            \n                \n            \n        \n							 \n			\n        \n				\n				        \n            \n                \n            \n        \n							 \n			\n        \n				\n				        \n            \n                \n            \n        \n							 \n			\n        \n				\n				        \n            \n                \n            \n        \n							 \n			\n        \n				\n				        \n            \n                \n            \n        \n							 \n			\n        \n				\n				        \n            \n                \n            \n        \n							 \n			\n        \n				\n				        \n            \n                \n            \n        \n							 \n			\n        \n				\n				        \n            \n                \n            \n        \n							 \n			\n        \n				\n				        \n            \n                \n            \n        \n							 \n			\n        \n				\n				        \n            \n                \n            \n        \n							 \n			\n        \n				\n				        \n            \n                \n            \n        \n							 \n			\n        \n				\n				        \n            \n                \n            \n        \n							 \n			\n        \n				\n				        \n            \n                \n            \n        \n							 \n			\n        \n				\n				        \n            \n                \n            \n        \n							 \n			\n        \n		\n		\n	\n\n  \nHALÁSZ JUDIT KONCERTJE\ngyerekeknek és felnőtteknek\nHalász Judit színészi pályafutásával párhuzamosan új műfajt teremtett előadóművészként. Klasszikus és kortárs magyar költők verseit évtizedek óta énekli – a magyar könnyűzene legjobbjainak megzenésítésében –\, méghozzá gyermekeknek. \nGenerációk nevelkedtek fel\, lemezeit hallgatva. A zenei és előadói igényesség mellett játékosság\, humor\, fantázia és  szeretet jellemzi a dalokat\, amelyeket kicsik és nagyok is együtt énekelhetnek – és énekelnek is – koncertjein. \nA JÁTSSZUNK EGYÜTT! című koncerten az eddig megjelent  zenei anyagokból – 18 nagylemez! – hallható válogatás\, amely csokorba fogja Halász Judit egyedülálló pályafutásának legnépszerűbb alkotásait. \nHalász Judit legfontosabb küldetésének tartja fenntartani a családok\, a gyerekek magyar költészet iránti érdeklődését\, s dalolva\, észrevétlenül szórakoztatva felhívni figyelmüket az élet fontos törvényeire. \nA gyerekek – Magyarországon elsőként – a Mosoly-Rend lovagjának választották. A Vígszínház\, valamint a magyarországi UNICEF elnökségi tagja. A magyar állam Jászai Mari – és Érdemes Művész – díjjal\, a Magyar Köztársasági Tiszti Keresztjével\, valamint Kossuth-díjjal jutalmazta eddigi munkáját. \nA koncerten közreműködő zenészek: \nAnti Tamás\nakusztikus gitár\, mandolin\, szájharmonika\, ének\nBartha Tibor\nbillentyűs hangszerek\, hegedű\, furulya\, ének\nFödő Sándor\nbasszusgitár\, ének\nBarna Zoltán Csibi\ndob\, ütőhangszerek\nMóricz Mihály\nelektromos- és akusztikus gitár\, ének\n \nJegyárak:\n3.000 Ft – korai elővételben\, november 10-ig\n3.200 Ft – Tatabánya Kártyával\n3.500 Ft\nBelépőjegyek A Vértes Agorája jegypénztárában is kaphatók.\nUtalványt\, valamint Cafeteria- és SZÉP Kártyát erre a rendezvényre elfogadunk.\nBővebb információ\n \n
URL:https://old.avertesagoraja.hu/program/halasz-judit-2019/
LOCATION:A Vértes Agorája\, Szent Borbála tér 1.\, Tatabánya\, 2800\, Magyarország
CATEGORIES:Programkínálat
ATTACH;FMTTYPE=image/jpeg:https://old.avertesagoraja.hu/wp-content/uploads/2019/09/Halász_Judit_800x400.jpg
END:VEVENT
END:VCALENDAR