BEGIN:VCALENDAR
VERSION:2.0
PRODID:-//A Vértes Agoraja - ECPv4.9.13//NONSGML v1.0//EN
CALSCALE:GREGORIAN
METHOD:PUBLISH
X-WR-CALNAME:A Vértes Agoraja
X-ORIGINAL-URL:https://old.avertesagoraja.hu
X-WR-CALDESC:Events for A Vértes Agoraja
BEGIN:VTIMEZONE
TZID:Europe/Paris
BEGIN:DAYLIGHT
TZOFFSETFROM:+0100
TZOFFSETTO:+0200
TZNAME:CEST
DTSTART:20190331T010000
END:DAYLIGHT
BEGIN:STANDARD
TZOFFSETFROM:+0200
TZOFFSETTO:+0100
TZNAME:CET
DTSTART:20191027T010000
END:STANDARD
END:VTIMEZONE
BEGIN:VEVENT
DTSTART;TZID=Europe/Paris:20191204T190000
DTEND;TZID=Europe/Paris:20191204T210000
DTSTAMP:20260426T002304
CREATED:20190822T121923Z
LAST-MODIFIED:20191207T073213Z
UID:46635-1575486000-1575493200@old.avertesagoraja.hu
SUMMARY:Christmas show
DESCRIPTION:\n \n\nGyőri Filharmonikus Zenekar | Christmas show \nKözzétette: A Vértes Agorája – 2019. december 7.\, szombat \n\n\n\n\n    	\n        [Diavetítés indítása]\n		\n	\n			\n				\n				        \n            \n                \n            \n        \n							 \n			\n        \n				\n				        \n            \n                \n            \n        \n							 \n			\n        \n				\n				        \n            \n                \n            \n        \n							 \n			\n        \n				\n				        \n            \n                \n            \n        \n							 \n			\n        \n				\n				        \n            \n                \n            \n        \n							 \n			\n        \n				\n				        \n            \n                \n            \n        \n							 \n			\n        \n				\n				        \n            \n                \n            \n        \n							 \n			\n        \n				\n				        \n            \n                \n            \n        \n							 \n			\n        \n				\n				        \n            \n                \n            \n        \n							 \n			\n        \n				\n				        \n            \n                \n            \n        \n							 \n			\n        \n				\n				        \n            \n                \n            \n        \n							 \n			\n        \n				\n				        \n            \n                \n            \n        \n							 \n			\n        \n				\n				        \n            \n                \n            \n        \n							 \n			\n        \n				\n				        \n            \n                \n            \n        \n							 \n			\n        \n				\n				        \n            \n                \n            \n        \n							 \n			\n        \n				\n				        \n            \n                \n            \n        \n							 \n			\n        \n				\n				        \n            \n                \n            \n        \n							 \n			\n        \n				\n				        \n            \n                \n            \n        \n							 \n			\n        \n				\n				        \n            \n                \n            \n        \n							 \n			\n        \n				\n				        \n            \n                \n            \n        \n							 \n			\n        \n		\n		\n	\n\n  \nAmerikai és magyar/közép-európai\, klasszikus és könnyűzenei karácsonyi dallamok szimfonikus zenekari kísérettel. \nZenél: Győri Filharmonikus Zenekar\nVezényel: Rácz Márton\nKözreműködik: Wolf Kati és Vastag Tamás – ének \nNagy ünnepeink között minden bizonnyal az Advent és a Karácsony inspirálta a legmeghatóbb\, legbensőségesebb zenék megszületését\, gondoljunk megannyi ismert népdal\, klasszikus és könnyűzenei alkotás szívünkben zengő\, kedves emlékeket előszólító dallamára. A Győri Filharmonikus Zenekar és Rácz Márton karmester vendégeként a populáris zene két népszerű hazai előadója\, Wolf Kati és Vastag Tamás idézi fel – mintegy világkörüli utazásra invitálva a közönséget – a Szeretet Ünnepének meghitt hangulatát. \nForrás: gyfz.hu\n \nBelépőjegyek hamarosan A Vértes Agorája jegypénztárában is kaphatók.\nJegy- és bérletvásárláskor az alábbi utalványokat fogadjuk el:\nKultúra Erzsébet-utalvány\nAjándék Erzsébet-utalvány\nBővebb információ\n
URL:https://old.avertesagoraja.hu/program/gyfz-2019-2020-christmas-show/
LOCATION:A Vértes Agorája\, Szent Borbála tér 1.\, Tatabánya\, 2800\, Magyarország
CATEGORIES:Programkínálat
ATTACH;FMTTYPE=image/jpeg:https://old.avertesagoraja.hu/wp-content/uploads/2019/08/gyfz_XMASSHOWtbanya_banner800x400.jpg
END:VEVENT
END:VCALENDAR