BEGIN:VCALENDAR
VERSION:2.0
PRODID:-//A Vértes Agoraja - ECPv4.9.13//NONSGML v1.0//EN
CALSCALE:GREGORIAN
METHOD:PUBLISH
X-WR-CALNAME:A Vértes Agoraja
X-ORIGINAL-URL:https://old.avertesagoraja.hu
X-WR-CALDESC:Events for A Vértes Agoraja
BEGIN:VTIMEZONE
TZID:Europe/Helsinki
BEGIN:DAYLIGHT
TZOFFSETFROM:+0200
TZOFFSETTO:+0300
TZNAME:EEST
DTSTART:20220327T010000
END:DAYLIGHT
BEGIN:STANDARD
TZOFFSETFROM:+0300
TZOFFSETTO:+0200
TZNAME:EET
DTSTART:20221030T010000
END:STANDARD
END:VTIMEZONE
BEGIN:VEVENT
DTSTART;TZID=Europe/Helsinki:20220806T160000
DTEND;TZID=Europe/Helsinki:20220806T170000
DTSTAMP:20260425T042210
CREATED:20220726T132454Z
LAST-MODIFIED:20220727T062650Z
UID:58650-1659801600-1659805200@old.avertesagoraja.hu
SUMMARY:Gitár workshop
DESCRIPTION:blues-folk-country kirándulás\nA Tulipános funfun koncertjei előtt blues-folk-country kirándulásra várunk mindenkit\, aki kipróbálná\, mennyire van otthon a tradicionális blues és a vele rokon műfajok világában! \nTudnivalók kezdőknek\, haladóknak és teljesen laikusoknak: történeti áttekintés a Delta blues kezdeteitől az észak-mississippi blueson át a folk és country pengetési technikákig\, alternatív hangolások\, slide gitár és minden más\, amire csak a résztvevők kíváncsiak. \nRegisztráció nincs\, amire szükség lehet\, az egy akusztikus gitár\, de azokat is szívesen látjuk\, akik csak hallgatóznának. \nTúravezető: Sam Redbreast Wilson \nBővebb információ\nFatuska Máté +3630 476 7688 | fatuska.mate@avertesagoraja.hu \n\nTulipános funfun\nKoncertek \n17:00 h\nTHE MOJO \n19:00 h\nREDBREAST WILSON & THE MAD DOG MARGARITAS \n21:00 h\nJAMBALAYA \n  \nKapunyitás 15:00 h | zárás 24:00\n ”Művészeti programok a Tulipános Házban” TOP-7.1.1-16-H-ESZA-2019-00673\n
URL:https://old.avertesagoraja.hu/program/gitar-workshop/
LOCATION:Tulipános Ház\, Népház u. 7.\, Tatabánya\, Komárom-Esztergom\, 2800\, Magyarország
CATEGORIES:Programkínálat,Saját szervezésű rendezvény
ATTACH;FMTTYPE=image/png:https://old.avertesagoraja.hu/wp-content/uploads/2022/07/Tulipanos_gitar_workshop_800x400-1.png
END:VEVENT
END:VCALENDAR