BEGIN:VCALENDAR
VERSION:2.0
PRODID:-//A Vértes Agoraja - ECPv4.9.13//NONSGML v1.0//EN
CALSCALE:GREGORIAN
METHOD:PUBLISH
X-WR-CALNAME:A Vértes Agoraja
X-ORIGINAL-URL:https://old.avertesagoraja.hu
X-WR-CALDESC:Events for A Vértes Agoraja
BEGIN:VTIMEZONE
TZID:Europe/Paris
BEGIN:DAYLIGHT
TZOFFSETFROM:+0100
TZOFFSETTO:+0200
TZNAME:CEST
DTSTART:20190331T010000
END:DAYLIGHT
BEGIN:STANDARD
TZOFFSETFROM:+0200
TZOFFSETTO:+0100
TZNAME:CET
DTSTART:20191027T010000
END:STANDARD
END:VTIMEZONE
BEGIN:VEVENT
DTSTART;TZID=Europe/Paris:20190411T170000
DTEND;TZID=Europe/Paris:20190411T180000
DTSTAMP:20260425T161121
CREATED:20190226T101941Z
LAST-MODIFIED:20190416T074859Z
UID:43013-1555002000-1555005600@old.avertesagoraja.hu
SUMMARY:Fugato Orchestra - Hibrid Dalok | Verses koncert Lackfi Jánossal
DESCRIPTION:\n\n	\n\n        20190411_01\n\n        \n\n        \n            \n        \n\n         \n\n        \n\n            \n                \n                    ◄ Előző                \n            \n\n            \n                \n                    Következő                    ►\n                \n            \n\n            \n                Kép                1                 /                25            \n\n            \n                  \n            \n\n        \n    \n\n\n \nÜnnepi műsor\nA magyar költészet napja\nalkalmából\nMűvészi és könnyed\, hagyományos és innovatív\, értelmes és érzelmes… Kibékíthetetlennek tűnő ellentétek egységgé formálása\, stílusok és kultúrák találkoztatása éppúgy jellemzi Lackfi János költészetét\, mint a 13 fős Fugato Orchestra hangzásvilágát. Az elektronikával\, dobbal\, basszusgitárral és énekesekkel kiegészített szimfonikus kamaraegyüttes vezetője\, Alpár Balázs a különböző műfajok lényegi energiáit egyesíti hibrid zenéjében.\nA Hibrid Dalok műsora Lackfi János kifejezetten a Fugato Orchestra számára írt új szövegeire és a hibrid tematika mentén válogatott korábbi verseire épül. A zeneszámokat összefűző szövegeket maga a szerző adja elő. \nA szöveg forrása: www.barabasvilla.hu\nA program a “József Attila” XIII. Nemzeti vers-\, énekelt vers és prózamondó verseny nemzeti döntője nyitónapján lesz. Nyilvános\, ingyenes rendezvény.\n
URL:https://old.avertesagoraja.hu/program/fugato-orchestra-lackfi-janos/
LOCATION:A Vértes Agorája\, Szent Borbála tér 1.\, Tatabánya\, 2800\, Magyarország
CATEGORIES:Programkínálat
ATTACH;FMTTYPE=image/jpeg:https://old.avertesagoraja.hu/wp-content/uploads/2019/02/JA_Fugato_2019_800x400.jpg
END:VEVENT
END:VCALENDAR