BEGIN:VCALENDAR
VERSION:2.0
PRODID:-//A Vértes Agoraja - ECPv4.9.13//NONSGML v1.0//EN
CALSCALE:GREGORIAN
METHOD:PUBLISH
X-WR-CALNAME:A Vértes Agoraja
X-ORIGINAL-URL:https://old.avertesagoraja.hu
X-WR-CALDESC:Events for A Vértes Agoraja
BEGIN:VTIMEZONE
TZID:Europe/Paris
BEGIN:DAYLIGHT
TZOFFSETFROM:+0100
TZOFFSETTO:+0200
TZNAME:CEST
DTSTART:20210328T010000
END:DAYLIGHT
BEGIN:STANDARD
TZOFFSETFROM:+0200
TZOFFSETTO:+0100
TZNAME:CET
DTSTART:20211031T010000
END:STANDARD
END:VTIMEZONE
BEGIN:VEVENT
DTSTART;TZID=Europe/Paris:20210919T120000
DTEND;TZID=Europe/Paris:20210919T160000
DTSTAMP:20260425T025035
CREATED:20210907T122916Z
LAST-MODIFIED:20210907T124100Z
UID:55591-1632052800-1632067200@old.avertesagoraja.hu
SUMMARY:Freestyle roller verseny
DESCRIPTION:SKATEPARK | TATABÁNYA\nVendég\nPipó Bence\nSepa Levente \nKategóriák:\nGyerek 9-12 éves\, amatőr\n12+ amatőr \nProgram\n12:00-13:30 h\nNevezés\, pályabejárás \n14:00 h\nVERSENY \nA verseny végén\neredményhirdetés\, díjátadás \nPipó Bence és Sepa Levente\nfreestyle roller bemutatója és dedikálás \n\nNyeremények \nRollers.hu\nvásárlási utalvány \nMindkét kategóriában \nI. helyezés 25.000 Ft\nII. helyezés 15.000 Ft\nIII. helyezés 10.000 Ft \nA rendezvényen mindenki saját felelősségére vehet részt. Bukósisak és védőfelszerelés használata kötelező! \nKiskorúak szülői beleegyező nyilatkozattal nevezhetnek a versenyre.\nA rendezők a programváltozás jogát fenntartják!\n
URL:https://old.avertesagoraja.hu/program/freestyle-roller-verseny-2021/
LOCATION:Csónakázó-tó\, Tatabánya\, Komárom-Esztergom\, 2800\, Magyarország
CATEGORIES:Programkínálat,Saját szervezésű rendezvény
ATTACH;FMTTYPE=image/png:https://old.avertesagoraja.hu/wp-content/uploads/2021/09/800x400_ugyessegi_automentes_2021.png
END:VEVENT
END:VCALENDAR