BEGIN:VCALENDAR
VERSION:2.0
PRODID:-//A Vértes Agoraja - ECPv4.9.13//NONSGML v1.0//EN
CALSCALE:GREGORIAN
METHOD:PUBLISH
X-WR-CALNAME:A Vértes Agoraja
X-ORIGINAL-URL:https://old.avertesagoraja.hu
X-WR-CALDESC:Events for A Vértes Agoraja
BEGIN:VTIMEZONE
TZID:Europe/Paris
BEGIN:DAYLIGHT
TZOFFSETFROM:+0100
TZOFFSETTO:+0200
TZNAME:CEST
DTSTART:20200329T010000
END:DAYLIGHT
BEGIN:STANDARD
TZOFFSETFROM:+0200
TZOFFSETTO:+0100
TZNAME:CET
DTSTART:20201025T010000
END:STANDARD
END:VTIMEZONE
BEGIN:VEVENT
DTSTART;TZID=Europe/Paris:20200224T180000
DTEND;TZID=Europe/Paris:20200224T193000
DTSTAMP:20260424T222117
CREATED:20200207T150739Z
LAST-MODIFIED:20200303T130755Z
UID:50924-1582567200-1582572600@old.avertesagoraja.hu
SUMMARY:Francia Filmnapok I. | A hűséges férfi
DESCRIPTION:[vc_row][vc_column][vc_column_text] \n\n\n\n\n 	\n\n        \n\n            \n        \n\n         \n\n\n        \n\n            \n        \n\n         \n\n\n        \n\n            \n        \n\n         \n\n\n        \n\n            \n        \n\n         \n\n\n        \n\n            \n        \n\n         \n\n\n        \n\n            \n        \n\n         \n\n\n        \n\n            \n        \n\n         \n\n\n        \n\n            \n        \n\n         \n\n\n        \n\n            \n        \n\n         \n\n\n        \n\n            \n        \n\n         \n\n\n        \n\n            \n        \n\n         \n\n\n        \n\n            \n        \n\n         \n\n\n        \n\n            \n        \n\n         \n\n\n        \n\n            \n        \n\n         \n\n\n        \n\n            \n        \n\n         \n\n\n        \n\n            \n        \n\n         \n\n\n\n		\n	\n        [Bélyegképek megjelenítése]\n	\n\n[/vc_column_text][vc_column_text][/vc_column_text][/vc_column][/vc_row][vc_row][vc_column][vc_column_text] \nL’homme fidèle\nfrancia romantikus dráma\, vígjáték | 75 perc | 2018\n16 éven aluliak számára nem ajánlott\n \nMarianne és Abel szerelmesek egymásba\, és évek óta együtt élnek. Marianne egy nap bejelenti Abelnek\, hogy gyermeket vár. A férfi örül a hírnek\, de nem sokáig\, mivel Marianne bevallja neki: a gyermek nem tőle van. Abel nem gondolta\, hogy szerelmének más férfi is van az életében\, aki ráadásul az egyik legjobb barátja.\nAbel elköltözik Marianne-tól\, és megpróbál új életet kezdeni\, a nő pedig férjhez megy Paulhoz\, a születendő gyermek apjához. Néhány év múlva a sors váratlan fordulatot hoz: Paul\, a férj meghal\, és a még mindig szép és fiatal Marianne özvegy lesz. Több év után Abel újra lehetőséget kaphat arra\, hogy ismét meghódítsa élete szerelmét\, de a helyzet nem egyszerű\, mivel Abel életében feltűnik egy fiatal\, csinos lány is\, akit Eve-nek hívnak\, és aki minden áron magáénak akarja a férfit… \n\n\nForrás: muveszmozi.hu\n\n\n[/vc_column_text][/vc_column][/vc_row][vc_row][vc_column width=”1/2″][vc_column_text] \nAlkotók\n\nRendező: Louis Garrel\nForgatókönyvíró:\nJean-Claude Carriére\nLouis Garrel\nOperatőr: Irina Lubtchansky\nVágó: Joëlle Hache \n\n[/vc_column_text][/vc_column][vc_column width=”1/2″][vc_column_text] \nSzereplők\n\n\n\n\n\n\n\n\n\n\n\n\n\n\n\n\n\n\n\n\nLouis Garrel Abel\n\n\nLaetitia Casta Marianne\n\n\nLily-Rose Melody Depp Eve\nVladislav Galard Docteur Pivoine\nBakary Sangaré\nJoseph Engel\n\n\n\n\n\n\n\n\n\n\n\n\n\n\n\n\n\n\n\n\n[/vc_column_text][/vc_column][/vc_row][vc_row][vc_column][vc_column_text] \nA vetítés A Vértes Agorájában lesz. A helyfoglalás az érkezés sorrendjében történik\, a nagyterem befogadóképességéig. Előzetes regisztráció nem szükséges.\n[/vc_column_text][/vc_column][/vc_row][vc_row][vc_column][vc_column_text][/vc_column_text][/vc_column][/vc_row] \n
URL:https://old.avertesagoraja.hu/program/francia-filmnapok-2020-1/
LOCATION:A Vértes Agorája\, Szent Borbála tér 1.\, Tatabánya\, 2800\, Magyarország
CATEGORIES:Programkínálat
ATTACH;FMTTYPE=image/jpeg:https://old.avertesagoraja.hu/wp-content/uploads/2020/02/FranciaFilmnapok_2020_800x400_1.jpg
END:VEVENT
END:VCALENDAR