BEGIN:VCALENDAR
VERSION:2.0
PRODID:-//A Vértes Agoraja - ECPv4.9.13//NONSGML v1.0//EN
CALSCALE:GREGORIAN
METHOD:PUBLISH
X-WR-CALNAME:A Vértes Agoraja
X-ORIGINAL-URL:https://old.avertesagoraja.hu
X-WR-CALDESC:Events for A Vértes Agoraja
BEGIN:VTIMEZONE
TZID:Europe/Helsinki
BEGIN:DAYLIGHT
TZOFFSETFROM:+0200
TZOFFSETTO:+0300
TZNAME:EEST
DTSTART:20220327T010000
END:DAYLIGHT
BEGIN:STANDARD
TZOFFSETFROM:+0300
TZOFFSETTO:+0200
TZNAME:EET
DTSTART:20221030T010000
END:STANDARD
END:VTIMEZONE
BEGIN:VEVENT
DTSTART;TZID=Europe/Helsinki:20220506T100000
DTEND;TZID=Europe/Helsinki:20220508T200000
DTSTAMP:20260425T013515
CREATED:20220406T083918Z
LAST-MODIFIED:20220413T102151Z
UID:58229-1651831200-1652040000@old.avertesagoraja.hu
SUMMARY:X. Forgórózsa Fesztivál
DESCRIPTION:A Forgórózsa Fesztivál a térség legjelentősebb népművészeti eseménye\, amelyet a tradíció és a modernitás egyidejű jelenléte és az igényes szórakozás és szórakoztatás jellemez.\nA program mindhárom napja tartogat izgalmas elemeket: \nNépzenei\, néptáncos villámcsődületek \nBabakiállítás\n(Komárom-Esztergom megyei népviselet) \nFotókiállítás\n(bakonyi\, kupuszinai\, mérai archív fotók) \nBakonyi\, mérai és kupuszinai hagyományőrző csoportok\,\nés Tatabánya testvértelepüléseiről érkező ének-\, zene- és táncegyüttesek műsora:\nSzékelyudvarhely (Erdély\, Székelyföld)\nSelmecbánya (Felvidék)\nTiszapéterfalva (Kárpátalja)\nBędzin (Lengyelország)\nAalen (Németország)\nHollola (Finnország) \nRégmúlt idők csárdája\, vurstlija\, cirkusza \nKézműves kirakodóvásár \n„Boszorkányudvar”\n(jós\, népigyógyász) \nHungarikum-udvar\n(tárgyalkotó népművészek bemutatója\, látványműhelye) \nÍzek utcája\n(Méra\, Kupuszina\, Tiszapéterfalva\, Bajna ízei) \nTáncház \nÜgyességi és más népi játékok \n \nItt lesznek még: \nVitéz László \nKuttyomfitty Társulat \nPasatempos\n(görög zenekar) \nHakeshet Klezmer Band\n(Nagyvárad) \nVujicsics 45\n(délszláv népzenei koncert) \n \nDigi Múzeum\n(VR szemüveges betekintés a Hagyományok Házába) \n \nRészletes információ:\nwww.forgorozsafesztival.hu \n \nFőszervező: Forgórózsa Népművészeti Központ\nEgyüttműködő partner: A Vértes Agorája\n
URL:https://old.avertesagoraja.hu/program/forgorozsa-fesztival-2022/
LOCATION:A Vértes Agorája\, Szent Borbála tér 1.\, Tatabánya\, 2800\, Magyarország
CATEGORIES:Programkínálat
ATTACH;FMTTYPE=image/png:https://old.avertesagoraja.hu/wp-content/uploads/2022/04/20220506_Forgorozsa_800x400.png
END:VEVENT
END:VCALENDAR