BEGIN:VCALENDAR
VERSION:2.0
PRODID:-//A Vértes Agoraja - ECPv4.9.13//NONSGML v1.0//EN
CALSCALE:GREGORIAN
METHOD:PUBLISH
X-WR-CALNAME:A Vértes Agoraja
X-ORIGINAL-URL:https://old.avertesagoraja.hu
X-WR-CALDESC:Events for A Vértes Agoraja
BEGIN:VTIMEZONE
TZID:Europe/Paris
BEGIN:DAYLIGHT
TZOFFSETFROM:+0100
TZOFFSETTO:+0200
TZNAME:CEST
DTSTART:20180325T010000
END:DAYLIGHT
BEGIN:STANDARD
TZOFFSETFROM:+0200
TZOFFSETTO:+0100
TZNAME:CET
DTSTART:20181028T010000
END:STANDARD
END:VTIMEZONE
BEGIN:VEVENT
DTSTART;TZID=Europe/Paris:20180511T080000
DTEND;TZID=Europe/Paris:20180513T170000
DTSTAMP:20260425T203422
CREATED:20180413T080651Z
LAST-MODIFIED:20180514T123314Z
UID:35206-1526025600-1526230800@old.avertesagoraja.hu
SUMMARY:VIII. Forgórózsa Fesztivál és VI. Népművészeti Ki mit tud? és "Örökség" Régiós Gyermek Néptánc Fesztivál
DESCRIPTION:Május második hétvégéjén ismét különleges zenei  produkciókat hallhat\, szép viseleteket\, táncokat láthat\, aki A Vértes Agorája környékén jár. A Forgórózsa Fesztiválon idén – a szokásos\, magas színvonalú népművészeti produkciók mellett – a városi folklór világába is belekóstolhatunk: fellép a Kaláka és a Budapest Bár\, új műsorral jelentkezik a Szekérszínház társulat. Először kap helyet a rendezvényen az “Örökség” Régiós Gyermek Néptánc Fesztivál\, ahol a gyerekek a szakma legnevesebb képviselőiből álló zsűri előtt mérethetik meg magukat. A hagyományőrzők fellépése minden évben a fesztivál legemelkedettebb pillanatait hozza el\, idén bagi\, Felső-Maros menti\, őrkői táncosok és zenészek vendégeskednek nálunk. \n  \n\n\n\n\n 	\n\n        \n\n            \n        \n\n         \n\n\n        \n\n            \n        \n\n         \n\n\n        \n\n            \n        \n\n         \n\n\n        \n\n            \n        \n\n         \n\n\n        \n\n            \n        \n\n         \n\n\n        \n\n            \n        \n\n         \n\n\n        \n\n            \n        \n\n         \n\n\n        \n\n            \n        \n\n         \n\n\n        \n\n            \n        \n\n         \n\n\n        \n\n            \n        \n\n         \n\n\n        \n\n            \n        \n\n         \n\n\n        \n\n            \n        \n\n         \n\n\n        \n\n            \n        \n\n         \n\n\n        \n\n            \n        \n\n         \n\n\n        \n\n            \n        \n\n         \n\n\n        \n\n            \n        \n\n         \n\n\n        \n\n            \n        \n\n         \n\n\n        \n\n            \n        \n\n         \n\n\n        \n\n            \n        \n\n         \n\n\n        \n\n            \n        \n\n         \n\n\n        \n\n            \n        \n\n         \n\n\n        \n\n            \n        \n\n         \n\n\n        \n\n            \n        \n\n         \n\n\n        \n\n            \n        \n\n         \n\n\n        \n\n            \n        \n\n         \n\n\n        \n\n            \n        \n\n         \n\n\n        \n\n            \n        \n\n         \n\n\n        \n\n            \n        \n\n         \n\n\n        \n\n            \n        \n\n         \n\n\n        \n\n            \n        \n\n         \n\n\n        \n\n            \n        \n\n         \n\n\n        \n\n            \n        \n\n         \n\n\n        \n\n            \n        \n\n         \n\n\n        \n\n            \n        \n\n         \n\n\n        \n\n            \n        \n\n         \n\n\n        \n\n            \n        \n\n         \n\n\n        \n\n            \n        \n\n         \n\n\n        \n\n            \n        \n\n         \n\n\n        \n\n            \n        \n\n         \n\n\n        \n\n            \n        \n\n         \n\n\n        \n\n            \n        \n\n         \n\n\n        \n\n            \n        \n\n         \n\n\n        \n\n            \n        \n\n         \n\n\n        \n\n            \n        \n\n         \n\n\n        \n\n            \n        \n\n         \n\n\n        \n\n            \n        \n\n         \n\n\n        \n\n            \n        \n\n         \n\n\n        \n\n            \n        \n\n         \n\n\n        \n\n            \n        \n\n         \n\n\n        \n\n            \n        \n\n         \n\n\n        \n\n            \n        \n\n         \n\n\n        \n\n            \n        \n\n         \n\n\n        \n\n            \n        \n\n         \n\n\n        \n\n            \n        \n\n         \n\n\n        \n\n            \n        \n\n         \n\n\n        \n\n            \n        \n\n         \n\n\n        \n\n            \n        \n\n         \n\n\n        \n\n            \n        \n\n         \n\n\n        \n\n            \n        \n\n         \n\n\n        \n\n            \n        \n\n         \n\n\n        \n\n            \n        \n\n         \n\n\n        \n\n            \n        \n\n         \n\n\n        \n\n            \n        \n\n         \n\n\n        \n\n            \n        \n\n         \n\n\n        \n\n            \n        \n\n         \n\n\n        \n\n            \n        \n\n         \n\n\n        \n\n            \n        \n\n         \n\n\n        \n\n            \n        \n\n         \n\n\n        \n\n            \n        \n\n         \n\n\n        \n\n            \n        \n\n         \n\n\n        \n\n            \n        \n\n         \n\n\n        \n\n            \n        \n\n         \n\n\n        \n\n            \n        \n\n         \n\n\n        \n\n            \n        \n\n         \n\n\n        \n\n            \n        \n\n         \n\n\n        \n\n            \n        \n\n         \n\n\n        \n\n            \n        \n\n         \n\n\n\n		\n	\n        [Bélyegképek megjelenítése]\n	\n\n\n \nProgram \nMájus 11. (péntek)\n11:00-20:00\nNépzenei \, cirkusz- és színházi flashmobok a városban\nGóbé zenekar\, táncosok\, artistanövendékek\, színészek\, képmutogató\,  Héregi cigányzenekar \n17:00\nKiállításmegnyitó – aula fríz – \nbagi\, vajdaszentiványi és őrkői archív fotók \n19:00\nPasatempos zenekar\ngörög népzenei koncert és táncház \n \nMájus 12. (szombat)\n\n8:30-16:30\n„Örökség” Gyermek Néptánc Fesztivál\na Gázsa és a Kincső zenekarral \n9:30-16:30\nNépművészeti Ki-mit-tud?\nnépmese\, népdal\, népzene és szólótánc produkciók \n9:30-10:30\n“Helyet\, helyet\, nekünk is”\nóvodások népi játék bemutatója \n11:00-11:50\n „Vitéz László”\nvásári bábjáték – Pályi János előadása \n11:50\nAz „Örökség” Gyermek Néptánc Fesztivál és a \nNépművészeti Ki-mit-tud? résztvevőinek felvonulása \n12:00-12:30\nMegnyitó\nközreműködnek: bogyiszlói és széki hagyományőrzők\,\nPünkösdi Rózsa Énekegyüttes\, Kincső zenekar \n12:30-13:30\n„Hippolyt\, a lakáj”\na Szekérszínház Társulat előadása \n14:30-15:00\nRáHangoló – fúvós-vonós párbaj\na Góbé zenekarral és a Tölcséres Bandával \n15:00-16:00\nA Góbé zenekar koncertje \n16:00-16:30\nA Tölcséres Banda koncertje \n16:30-17:30\n„Hippolyt\, a lakáj”\na Szekérszínház Társulat előadása \n17:45-18:00\nHagyományőrzők felvonulása \n18:00-19:15      \nBagi\, vajdaszentiványi és őrkői hagyományőrzők műsora\nközreműködik a Gázsa zenekar\, Horváth Elek és zenekara \n19:20-19:45\nA Népművészeti Ki-mit-tud? és az Örökség Gyermek Néptánc Fesztivál  ünnepélyes eredményhirdetése \n19:30-20:00\nCserszömörce zenekar moldvai táncháza \n20:00-21:30\nTáncház és tánctanítás\nhagyományőrző táncosokkal\, a Gázsa zenekarral\,\na vajdaszentiványi Horváth Elekkel és zenekarával \n21:30-00:00\nTáncház a Góbé zenekarral \n  \nMájus 13. (vasárnap)\n\n8:30-10:30\nGálaműsor a tatabányai Erkel Zeneiskola néptánc\,\nnépi ének hallgatóinak részvételével\nKözreműködnek a Sárberki és a Kodály iskola tanulói \n10:30-11:30\nForgórózsa Gála \n11:30-12:30\n„Hippolyt\, a lakáj”\na Szekérszínház Társulat előadása \n13:30-14:30\nKaláka koncert \n15:30-16:30\nBudapest Bár koncert \n16:30-17:30\n„Hippolyt\, a lakáj”\na Szekérszínház Társulat előadása \n \nÁllandó programok\nXIX. század eleji csárda\n– lacipecsenyés bódék\, borudvar –\n„terítéken”: tájjellegű ételek\, borok\, pálinkák\, kemencés lángos\, kürtös kalács\, házi sör stb.\nZenél a héregi cigányzenekar. \nKézműves kirakodó vásár \n „Boszorkányudvar”\njósda és gyógymasszázs\n(gyógynövények\, teák\, krémek\, házi mézek\, szappanok stb.) \nSzázadeleji „Vurstli”\nkiskocsma és sramlizene\, hinták\, kisvonat\, dobáló stb. \nCirkuszi előadások  a századeleji vurstliban\nszombaton: 10:30\, 14:00\, 15:00\, 16:30\, 17:30\nvasárnap: 10:00\, 11:00\, 13:00\, 14:30\, 15:30 \nKádár Ferkó fotózdája \n„Gyermek-kert”\nneves megyei és megyén kívüli népi kézműves mesterek nyitott műhelyei és kézműves foglalkozásai\n(bőrös\, fazekas\, kovács\, csuhés\, nemezelő\, kosárfonó\, fafaragó\, gyöngyös) \n„Mesterségek utcája”\nnépi játékok\, ügyességi játékok\, szekrényjátékok stb. \nHungarikum-udvar\nmegyei\, városi értéktár – megyei őstermelők\, kézműves mesterek portékái\, hagyományőrzők kézműves bemutatói \nBagi és vajdaszentiványi tisztaszobák kiállítása \n \nlásd még: www.forgorozsafesztival.hu \n
URL:https://old.avertesagoraja.hu/program/forgorozsa-fesztival-2018/
LOCATION:A Vértes Agorája\, Szent Borbála tér 1.\, Tatabánya\, 2800\, Magyarország
CATEGORIES:Programkínálat
ATTACH;FMTTYPE=image/jpeg:https://old.avertesagoraja.hu/wp-content/uploads/2018/04/forgorozsa_800x400.jpg
END:VEVENT
END:VCALENDAR