BEGIN:VCALENDAR
VERSION:2.0
PRODID:-//A Vértes Agoraja - ECPv4.9.13//NONSGML v1.0//EN
CALSCALE:GREGORIAN
METHOD:PUBLISH
X-WR-CALNAME:A Vértes Agoraja
X-ORIGINAL-URL:https://old.avertesagoraja.hu
X-WR-CALDESC:Events for A Vértes Agoraja
BEGIN:VTIMEZONE
TZID:Europe/Paris
BEGIN:DAYLIGHT
TZOFFSETFROM:+0100
TZOFFSETTO:+0200
TZNAME:CEST
DTSTART:20190331T010000
END:DAYLIGHT
BEGIN:STANDARD
TZOFFSETFROM:+0200
TZOFFSETTO:+0100
TZNAME:CET
DTSTART:20191027T010000
END:STANDARD
END:VTIMEZONE
BEGIN:VEVENT
DTSTART;TZID=Europe/Paris:20190324T180000
DTEND;TZID=Europe/Paris:20190324T193000
DTSTAMP:20260425T130541
CREATED:20190128T150634Z
LAST-MODIFIED:20190326T101119Z
UID:42207-1553450400-1553455800@old.avertesagoraja.hu
SUMMARY:Feketén fehéren
DESCRIPTION:\n\n	\n\n        20190324-ff_01\n\n        \n\n        \n            \n        \n\n         \n\n        \n\n            \n                \n                    ◄ Előző                \n            \n\n            \n                \n                    Következő                    ►\n                \n            \n\n            \n                Kép                1                 /                13            \n\n            \n                  \n            \n\n        \n    \n\n\n \nDEMENIV MIHÁLY harmonikaművész\nés TÁLAS ÁRON zongoraművész koncertje\nA fiatal művészekben közös\, hogy fekete-fehér billentyűkön közvetítik a zene páratlan élményét. \nMűsor:\nHarmonika:\nD. Scarlatti: C-dúr szonáta\nRichard Galliano: Opale Concerto 2-3. tétel\nEduard Akhanov: Russian in Finland \nZongora:\nWalter Gross – Tenderly\nJimmy Van Heusen – Like Someone in Love\nThelonius Monk – Reflections\nChick Corea – Windows \nDuó:\nA. Piazzolla: Aconcagua 1\,2\,3. tétel\nVladimir Zubitsky: Omaggio ad Astor Piazzolla\nEduard Akhanov: These foolish things \nDemeniv Mihály harmonikaművész \nElső tanárai a szülei voltak\, akik máig a legfontosabb\, s legőszintébb mesterei.\nNyolcévesen nyerte első nemzetközi versenyét Ungváron\, azóta számos hazai verseny mellett – többek között – Olaszországban\, Szlovákiában és Bosznia-Hercegovinában nemzetközi harmonikaversenyen ért el helyezéseket. A Liszt Ferenc Zeneművészeti Egyetem művészképzésén diplomázott. Demeniv Mihály a koncertezés mellett aktív tanár is: zeneiskolás gyerekeket vezet be a harmonikázás rejtelmeibe. Bármilyen hangszer hangját képes imitálni a sajátján. Koncertműsorait hangszere sokszínűségének jegyében állítja össze\, megmutatva a harmonika lehető legtöbb oldalát. \nDemeniv Mihályt a nagyközönség 2014-ben a közmédia Virtuózok című tehetségkutató döntőseként és különdíjasaként ismerhette meg\, amelynek köszönhetően ezrek számára válhatott a harmonika zenéje elementáris élménnyé. \nA fiatal művész számára az extrém zenei formációk sem szokatlanok. Többek között hárfa-tuba-harmonika felállásban is koncertezett már. Többször állt színpadra szimfonikus zenekarok szólistájaként is\, olyan nagy koncerttermekben mint a Zeneakadémia Nagyterme vagy a Los Angeles-i Disney Concert Hall.  \nTálas Áron zongoraművész \nTálas Áron 2015-ben szerzett MA diplomát a Liszt Ferenc Zeneművészeti Egyetem jazz-zongora szakán\, ahol 2012-től korrepetitorként is dolgozik. 2014-től a Kodolányi János Főiskola jazz-dob tanszék helyettes tanára. \n2013-ban megnyerte zenekarával a MJSZ által szervezett Jazz-combo versenyt\, ugyanebben az évben Junior Príma díjjal tüntették ki. 2015-ben bejutott a Montreux Jazz-zongoraverseny döntőjébe és szintén ebben az évben Gramofon díjjal jutalmazták.  Saját zenekarokat vezet (Tálas Áron trió\, Flight Modus)\, s zenét is szerez. Állandó tagja a Borbély Műhelynek\, a Lantos Zoltán Opensource-nak\, a Karosi Júlia Quartetnek és számos más produkció közreműködője. Olyan művészekkel játszott együtt\, mint például Dave Liebman\, Nils-Petter Molvaer\, Eivind Aarset\, Ed Neumeister\, New York Voices\, Babos Gyula\, Binder Károly\, Fekete-Kovács Kornél\, Miklósa Erika\, Tompos Kátya. \n \nJegyárak:\n1.500 Ft (korai elővételben\, 2019. február 28-áig)\n1.800 Ft (Tatabánya Kártyával)\n2.000 Ft (Teljesen áron)\nBelépőjegyek A Vértes Agorája jegypénztárában is kaphatók.\nUtalványt\, valamint Cafeteria- és SZÉP Kártyát erre a rendezvényre elfogadunk.\nBővebb információ\n \n \n \nA fesztivál fő támogatója a \nBRIDGESTONE\n
URL:https://old.avertesagoraja.hu/program/feketen-feheren/
LOCATION:A Vértes Agorája\, Szent Borbála tér 1.\, Tatabánya\, 2800\, Magyarország
CATEGORIES:Programkínálat
ATTACH;FMTTYPE=image/jpeg:https://old.avertesagoraja.hu/wp-content/uploads/2019/01/TTF_2019_800x400_DEMENIV-1.jpg
END:VEVENT
END:VCALENDAR