BEGIN:VCALENDAR
VERSION:2.0
PRODID:-//A Vértes Agoraja - ECPv4.9.13//NONSGML v1.0//EN
CALSCALE:GREGORIAN
METHOD:PUBLISH
X-WR-CALNAME:A Vértes Agoraja
X-ORIGINAL-URL:https://old.avertesagoraja.hu
X-WR-CALDESC:Events for A Vértes Agoraja
BEGIN:VTIMEZONE
TZID:Europe/Paris
BEGIN:DAYLIGHT
TZOFFSETFROM:+0100
TZOFFSETTO:+0200
TZNAME:CEST
DTSTART:20180325T010000
END:DAYLIGHT
BEGIN:STANDARD
TZOFFSETFROM:+0200
TZOFFSETTO:+0100
TZNAME:CET
DTSTART:20181028T010000
END:STANDARD
END:VTIMEZONE
BEGIN:VEVENT
DTSTART;TZID=Europe/Paris:20180305T180000
DTEND;TZID=Europe/Paris:20180305T200000
DTSTAMP:20260425T155640
CREATED:20180222T080732Z
LAST-MODIFIED:20180307T095027Z
UID:33023-1520272800-1520280000@old.avertesagoraja.hu
SUMMARY:Eszeveszett esküvő / Le sens de la fête
DESCRIPTION:[vc_row][vc_column][vc_column_text] \n\n\n	\n\n        20180305_01\n\n        \n\n        \n            \n        \n\n         \n\n        \n\n            \n                \n                    ◄ Előző                \n            \n\n            \n                \n                    Következő                    ►\n                \n            \n\n            \n                Kép                1                 /                13            \n\n            \n                  \n            \n\n        \n    \n\n\n [/vc_column_text][vc_column_text] \nFrankofón Filmnapok 1. \nmagyarul beszélő francia komédia | 117 perc | 2017 \n12 éven aluliaknak a megtekintése nagykorú felügyelete mellett ajánlott\n[/vc_column_text][/vc_column][/vc_row][vc_row][vc_column][vc_column_text] \nMax\, a nagy rutinnal bíró rendezvényszervező hiába vezényelte már le grandiózus események százait\, arra még ő sincs felkészülve\, ami a XVII. századi francia kastélyban és annak parkjában történik. Óriási stábjával jó előre megtervez mindent\, hiszen a kastély és a park minden szegletében tökéletes ünnepi hangulatnak kell uralkodnia\, a többszáz vendégnek és persze a maximalista\, kőgazdag vőlegénynek olyan estét kell biztosítsanak\, amelyre azok életük végéig emlékezni fognak. Néhány apró baki után viszont kártyavárként kezd összedőlni az este. Max pedig csak a fejét kapkodja\, hogyan tudná megakadályozni a teljes káoszt és megmenteni a nászt. \nForrás: www.port.hu \n[/vc_column_text][/vc_column][/vc_row][vc_row][vc_column width=”1/2″][vc_column_text] \n\n\nSzereplők\n\n\nMax Angély Jean-Pierre Bacri  \n\n\nJames Gilles Lellouche  \n\n\nGuy Jean-Paul Rouve  \n\n\nJulien Vincent Macaigne  \n\n\nJosiane Suzanne Clément  \n\n\nHéléna Judith Chemla  \n\n\n\n\n[/vc_column_text][/vc_column][vc_column width=”1/2″][vc_column_text] \n\n\nAlkotók\nrendező és forgatókönyvíró:\n  Eric Toledano\,     Olivier Nakache\noperatőr:   David Chizallet\nzene:   Avishai Cohen\nvágó:   Dorian Rigal-Ansous   \n  \n\n\n[/vc_column_text][/vc_column][/vc_row][vc_row][vc_column][vc_column_text][/vc_column_text][/vc_column][/vc_row] \n
URL:https://old.avertesagoraja.hu/program/eszeveszett-eskuvo/
LOCATION:A Vértes Agorája\, Szent Borbála tér 1.\, Tatabánya\, 2800\, Magyarország
CATEGORIES:Programkínálat
ATTACH;FMTTYPE=image/jpeg:https://old.avertesagoraja.hu/wp-content/uploads/2018/02/Frankofon_2018_800x400_1.jpg
END:VEVENT
END:VCALENDAR