BEGIN:VCALENDAR
VERSION:2.0
PRODID:-//A Vértes Agoraja - ECPv4.9.13//NONSGML v1.0//EN
CALSCALE:GREGORIAN
METHOD:PUBLISH
X-WR-CALNAME:A Vértes Agoraja
X-ORIGINAL-URL:https://old.avertesagoraja.hu
X-WR-CALDESC:Events for A Vértes Agoraja
BEGIN:VTIMEZONE
TZID:Europe/Paris
BEGIN:DAYLIGHT
TZOFFSETFROM:+0100
TZOFFSETTO:+0200
TZNAME:CEST
DTSTART:20230326T010000
END:DAYLIGHT
BEGIN:STANDARD
TZOFFSETFROM:+0200
TZOFFSETTO:+0100
TZNAME:CET
DTSTART:20231029T010000
END:STANDARD
END:VTIMEZONE
BEGIN:VEVENT
DTSTART;TZID=Europe/Paris:20230513T140000
DTEND;TZID=Europe/Paris:20230513T180000
DTSTAMP:20260425T131028
CREATED:20230421T093916Z
LAST-MODIFIED:20230503T203102Z
UID:60550-1683986400-1684000800@old.avertesagoraja.hu
SUMMARY:Emlékhelyek Napja
DESCRIPTION: \nAz Emlékhelyek Napja elnevezésű országos programsorozat arra hivatott\, hogy a magyar történelem és kultúra kiemelkedően fontos helyszíneire irányítsa a figyelmet. Ebből az alkalomból idén családi napot szervezünk Tatabánya egyik különleges gyűjteménye\, egyben büszkesége\, a Bányászati és Ipari Skanzen területére.  \n14:00 h\nMegnyitó\nKöszöntőt mond: Szücsné Posztovics Ilona\nTatabánya Megyei Jogú Város polgármestere\nA korábban meghirdetett alkotó- és TikTok videópályázat eredményhirdetése \n14:30 h\nA Kertvárosi Bányász Mazsorett Együttes fellépése \n  \n15:00 h\nBeatrix avagy Mátyás okos felesége – a Batyu Színház előadása \n \nElőadások városunkról:\n15:00 h\nTatabánya alapítása – előadó: Gyüszi László (TMJV József Attila Könyvtár) \n15:30 h\n2023-as dózsakerti régészeti leletek – előadó: Pál Gabriella (Tatabányai Múzeum) \n  \n16:00 h\nBánhidai Kisfúvósok előadása \n  \n 17:00 h\nPeron Tehetségkoncertek \n  \nKísérőprogramok – 14:00-18:00 h\nRekesztorony építés | Mesebánya állomás | Bányamanó keresés | Ingyenes tárlatvezetés| Solymász bemutató | Interaktív élménydobolás | VR szemüveg | Íjászkodás | Mesesarok | Kézműves foglalkozások \n \nA rendezvény ingyenes\,\na Skanzen ezen a napon ingyenesen látogatható. \n \nA Turul Emlékműhöz a T-Busz menetrend szerint közlekedő 70-es járat – és a rendezvény ideje alatt ingyenesen használható – járataival lehet feljutni: 13:20 | 15:20| 16:20 \nPluszban különjárat is indul a Bányászati és Ipari Skanzenhez közeli megállóból 15:00-kor és 16:00-kor a Gerecse Kapuja megállóba ingyenesen\, valamint vissza: 16:30-kor és 17:30-kor. \n \nKözreműködők:\nTatabányai Múzeum | József Attila Megyei és Városi Könyvtár | Tatabányai Városi Diákönkormányzat | Peron Music Club | Mosolygós Gyermekekért Alapítvány | Vasalt utak | Múltunk és Jövőnk Egyesület \n  \n  \n \n
URL:https://old.avertesagoraja.hu/program/emlekhelyek-napja-2022-2/
LOCATION:Bányászati és Ipari Skanzen\, Vágóhíd utca 1.\, Tatabánya\, Komárom-Esztergom\, 2800\, Magyarország
CATEGORIES:Programkínálat,Saját szervezésű rendezvény
ATTACH;FMTTYPE=image/jpeg:https://old.avertesagoraja.hu/wp-content/uploads/2023/04/800_400_emlekhelyek_napja_2023-1.jpg
END:VEVENT
END:VCALENDAR