BEGIN:VCALENDAR
VERSION:2.0
PRODID:-//A Vértes Agoraja - ECPv4.9.13//NONSGML v1.0//EN
CALSCALE:GREGORIAN
METHOD:PUBLISH
X-WR-CALNAME:A Vértes Agoraja
X-ORIGINAL-URL:https://old.avertesagoraja.hu
X-WR-CALDESC:Events for A Vértes Agoraja
BEGIN:VTIMEZONE
TZID:Europe/Paris
BEGIN:DAYLIGHT
TZOFFSETFROM:+0100
TZOFFSETTO:+0200
TZNAME:CEST
DTSTART:20190331T010000
END:DAYLIGHT
BEGIN:STANDARD
TZOFFSETFROM:+0200
TZOFFSETTO:+0100
TZNAME:CET
DTSTART:20191027T010000
END:STANDARD
END:VTIMEZONE
BEGIN:VEVENT
DTSTART;TZID=Europe/Paris:20190401T180000
DTEND;TZID=Europe/Paris:20190401T200000
DTSTAMP:20260424T221215
CREATED:20190220T143311Z
LAST-MODIFIED:20190402T142939Z
UID:42742-1554141600-1554148800@old.avertesagoraja.hu
SUMMARY:Életem értelmei
DESCRIPTION:[vc_row][vc_column][vc_column_text] \n\n\n	\n\n        20190401_01\n\n        \n\n        \n            \n        \n\n         \n\n        \n\n            \n                \n                    ◄ Előző                \n            \n\n            \n                \n                    Következő                    ►\n                \n            \n\n            \n                Kép                1                 /                10            \n\n            \n                  \n            \n\n        \n    \n\n\n\nFrankofón Filmnapok 3. \nNos batailles\nfrancia-belga filmdráma | 98 perc | 2018 \n12 éven aluliak számára nem ajánlott\n[/vc_column_text][/vc_column][/vc_row][vc_row][vc_column][vc_column_text]Olivier igazi harcos\, a munkahelyén az egyenlő bánásmódért agitál. Ám amikor a felesége egyik napról a másikra elhagyja\, a család is egyedül az ő nyakába szakad. Már csak az a kérdés\, hogy bírja a megsokszorozódó terheket\, képes-e összeegyeztetni a hivatást a gyerekneveléssel. \nForrás: artmozi.hu\n[/vc_column_text][/vc_column][/vc_row][vc_row][vc_column width=”1/2″][vc_column_text] \n\n\nSzereplők:\nRomain Duris\nLaure Calamy\nLaetitia Dosch\n\n \n\n[/vc_column_text][/vc_column][vc_column width=”1/2″][vc_column_text] \n\n\nRendező:\nGuillaume Senez\n\n \n\n[/vc_column_text][/vc_column][/vc_row][vc_row][vc_column][vc_column_text][/vc_column_text][/vc_column][/vc_row][vc_row][vc_column][vc_column_text][/vc_column_text][/vc_column][/vc_row] \n
URL:https://old.avertesagoraja.hu/program/eletem-ertelmei/
LOCATION:A Vértes Agorája\, Szent Borbála tér 1.\, Tatabánya\, 2800\, Magyarország
CATEGORIES:Programkínálat
ATTACH;FMTTYPE=image/jpeg:https://old.avertesagoraja.hu/wp-content/uploads/2019/02/Frankofon_2019_800x400_Eletem.jpg
END:VEVENT
END:VCALENDAR