BEGIN:VCALENDAR
VERSION:2.0
PRODID:-//A Vértes Agoraja - ECPv4.9.13//NONSGML v1.0//EN
CALSCALE:GREGORIAN
METHOD:PUBLISH
X-WR-CALNAME:A Vértes Agoraja
X-ORIGINAL-URL:https://old.avertesagoraja.hu
X-WR-CALDESC:Events for A Vértes Agoraja
BEGIN:VTIMEZONE
TZID:Europe/Paris
BEGIN:DAYLIGHT
TZOFFSETFROM:+0100
TZOFFSETTO:+0200
TZNAME:CEST
DTSTART:20190331T010000
END:DAYLIGHT
BEGIN:STANDARD
TZOFFSETFROM:+0200
TZOFFSETTO:+0100
TZNAME:CET
DTSTART:20191027T010000
END:STANDARD
END:VTIMEZONE
BEGIN:VEVENT
DTSTART;TZID=Europe/Paris:20190331T190000
DTEND;TZID=Europe/Paris:20190331T203000
DTSTAMP:20260425T204307
CREATED:20190128T093706Z
LAST-MODIFIED:20190403T081613Z
UID:42202-1554058800-1554064200@old.avertesagoraja.hu
SUMMARY:Az élet értelme - Egypercesek száz percben
DESCRIPTION:\n\n	\n\n        20190331_01\n\n        \n\n        \n            \n        \n\n         \n\n        \n\n            \n                \n                    ◄ Előző                \n            \n\n            \n                \n                    Következő                    ►\n                \n            \n\n            \n                Kép                1                 /                12            \n\n            \n                  \n            \n\n        \n    \n\n\n \nÖrkény István „Egyperces novellák” című kötetének rövid\, frappáns\, groteszk\, abszurd és nem utolsó sorban humoros írásai műfajt teremtettek. Annyira\, hogy az „egypercesek” ma már fogalom\, sorai közül pedig nem egy szállóigévé lett. \nA Tatabányai Tavaszi Fesztivál egyik legizgalmasabb programjának ígérkező irodalmi esten a novellákat Mácsai Pál olvassa fel\, őt pedig Lukács Miklós cimbalomművész kíséri. \n  \n \nJegyárak:\n1.800 Ft (korai elővételben\, 2019. február 28-áig)\n2.200 Ft (Tatabánya Kártyával)\n2.500 Ft (Teljesen áron)\nBelépőjegyek A Vértes Agorája jegypénztárában is kaphatók.\nUtalványt\, valamint Cafeteria- és SZÉP Kártyát erre a rendezvényre elfogadunk.\nBővebb információ\n \n \n \nA fesztivál fő támogatója a \nBRIDGESTONE\n
URL:https://old.avertesagoraja.hu/program/egypercesek/
LOCATION:A Vértes Agorája\, Szent Borbála tér 1.\, Tatabánya\, 2800\, Magyarország
CATEGORIES:Programkínálat
ATTACH;FMTTYPE=image/jpeg:https://old.avertesagoraja.hu/wp-content/uploads/2019/01/TTF_2019_800x400_MACSAI.jpg
END:VEVENT
END:VCALENDAR