BEGIN:VCALENDAR
VERSION:2.0
PRODID:-//A Vértes Agoraja - ECPv4.9.13//NONSGML v1.0//EN
CALSCALE:GREGORIAN
METHOD:PUBLISH
X-WR-CALNAME:A Vértes Agoraja
X-ORIGINAL-URL:https://old.avertesagoraja.hu
X-WR-CALDESC:Events for A Vértes Agoraja
BEGIN:VTIMEZONE
TZID:Europe/Paris
BEGIN:DAYLIGHT
TZOFFSETFROM:+0100
TZOFFSETTO:+0200
TZNAME:CEST
DTSTART:20190331T010000
END:DAYLIGHT
BEGIN:STANDARD
TZOFFSETFROM:+0200
TZOFFSETTO:+0100
TZNAME:CET
DTSTART:20191027T010000
END:STANDARD
END:VTIMEZONE
BEGIN:VEVENT
DTSTART;TZID=Europe/Paris:20190226T190000
DTEND;TZID=Europe/Paris:20190226T210000
DTSTAMP:20260425T225222
CREATED:20181218T074641Z
LAST-MODIFIED:20190227T104524Z
UID:41171-1551207600-1551214800@old.avertesagoraja.hu
SUMMARY:Egy életed van! | Dr. Csernus Imre előadása
DESCRIPTION:\n\n	\n\n        20190226_01\n\n        \n\n        \n            \n        \n\n         \n\n        \n\n            \n                \n                    ◄ Előző                \n            \n\n            \n                \n                    Következő                    ►\n                \n            \n\n            \n                Kép                1                 /                21            \n\n            \n                  \n            \n\n        \n    \n\n\nA népszerű\, pimaszul odamondós pszichiáter – aki nem finomkodik és sosem csomagolja be a mondanivalóját – 2019-ben is borzolja a kedélyeket Tatabányán. \n“Sokkal jobb a másikra haragudni\, mint felismerni azt\, hogy bizonyos szituációkban gyávák vagyunk cselekedni és élni.”\n \n(Dr. Csernus Imre) \n \nBelépőjegyek A Vértes Agorája jegypénztárában is kaphatók.\nUtalványt\, valamint Cafeteria- és SZÉP Kártyát erre a rendezvényre nem áll módunkban elfogadni.\nBővebb információ\n  \n
URL:https://old.avertesagoraja.hu/program/egy-eleted-van-dr-csernus-imre/
LOCATION:A Vértes Agorája\, Szent Borbála tér 1.\, Tatabánya\, 2800\, Magyarország
CATEGORIES:Programkínálat
ATTACH;FMTTYPE=image/jpeg:https://old.avertesagoraja.hu/wp-content/uploads/2018/02/IMG_6365-2_800_400.jpg
END:VEVENT
END:VCALENDAR