BEGIN:VCALENDAR
VERSION:2.0
PRODID:-//A Vértes Agoraja - ECPv4.9.13//NONSGML v1.0//EN
CALSCALE:GREGORIAN
METHOD:PUBLISH
X-WR-CALNAME:A Vértes Agoraja
X-ORIGINAL-URL:https://old.avertesagoraja.hu
X-WR-CALDESC:Events for A Vértes Agoraja
BEGIN:VTIMEZONE
TZID:Europe/Paris
BEGIN:DAYLIGHT
TZOFFSETFROM:+0100
TZOFFSETTO:+0200
TZNAME:CEST
DTSTART:20180325T010000
END:DAYLIGHT
BEGIN:STANDARD
TZOFFSETFROM:+0200
TZOFFSETTO:+0100
TZNAME:CET
DTSTART:20181028T010000
END:STANDARD
END:VTIMEZONE
BEGIN:VEVENT
DTSTART;TZID=Europe/Paris:20180226T150000
DTEND;TZID=Europe/Paris:20180226T170000
DTSTAMP:20260425T110838
CREATED:20180105T071311Z
LAST-MODIFIED:20180221T155354Z
UID:31044-1519657200-1519664400@old.avertesagoraja.hu
SUMMARY:Eddie\, a sas
DESCRIPTION:[vc_row][vc_column][vc_column_text] \nAgora filmklub 2018\n– a fiatalabb korosztályok számára –\n\n[/vc_column_text][/vc_column][/vc_row][vc_row][vc_column][vc_column_text] \nEddie\, a sas\n \nmagyarul beszélő\, angol-amerikai-német vígjáték| 105 perc | 2016 \n12 éven aluliak számára nem ajánlott\n[/vc_column_text][/vc_column][/vc_row][vc_row][vc_column][vc_column_text] \nA rendezvény egyénileg és csoportosan is látogatható.\nBővebb információ kérhető\nFatuska Máté kollégánktól: +36 30 476 7688  \n[/vc_column_text][/vc_column][/vc_row][vc_row][vc_column][vc_column_text][/vc_column_text][/vc_column][/vc_row][vc_row][vc_column][vc_column_text] \nŐ a tipikus angol hős. Eddie (Taron Egerton) nem igazán ügyes\, sőt\, első ránézésre kifejezetten kétballábasnak tűnik\, viszont nagyon lelkes. És ő az egyetlen\, aki síugróként a brit színeket képviseli az 1988-as Calgary téli olimpián.\nÍgy aztán ő lesz a brit sporttörténet egyik legnagyobb legendája: példa arra\, hogy nem szabad feladni\, hogy érdemes küzdeni\, és nem a győzelem a fontos – bár az is nagyon jól tud esni.\nEddie és edzője (Hugh Jackman) a lehetetlent vállalják\, és talán valóra is váltják. Egy egykor hatalmas nemzet tőlük várja\, hogy újra igazán büszkék lehessenek. \nForrás: www.port.hu \nA film megvásárolható DVD-n és Blu-rayen\n[/vc_column_text][/vc_column][/vc_row][vc_row][vc_column width=”1/2″][vc_column_text] \n\n\nSzereplők\n\n\n\n\n\nEddie Edwards Taron Egerton  \n\n\nBronson Peary Hugh Jackman  \n\n\nWarren Sharp Christopher Walken  \n\n\nBjřrn Norwegian Coach\nRune Temte  \n\n\nTarget Tim McInnerny  \n\n\nJanette Edwards Jo Hartley  \n\n\nMatti Nykänen Edvin Endre  \n\n\n\n\n\n\n\n[/vc_column_text][/vc_column][vc_column width=”1/2″][vc_column_text] \n\n\n\nAlkotók\nrendező:  Dexter Fletcher\nforgatókönyvíró:  \nSean Macaulay     Simon Kelto\noperatőr:   George Richmond \nvágó: Martin Walsh  \n  \n  \n\n\n\n[/vc_column_text][/vc_column][/vc_row][vc_row][vc_column][vc_column_text][/vc_column_text][/vc_column][/vc_row] \n
URL:https://old.avertesagoraja.hu/program/eddie-a-sas/
LOCATION:A Vértes Agorája\, Szent Borbála tér 1.\, Tatabánya\, 2800\, Magyarország
CATEGORIES:Programkínálat
ATTACH;FMTTYPE=image/jpeg:https://old.avertesagoraja.hu/wp-content/uploads/2018/01/Agora_Filmklub_2018_800x400_4.jpg
END:VEVENT
END:VCALENDAR