BEGIN:VCALENDAR
VERSION:2.0
PRODID:-//A Vértes Agoraja - ECPv4.9.13//NONSGML v1.0//EN
CALSCALE:GREGORIAN
METHOD:PUBLISH
X-WR-CALNAME:A Vértes Agoraja
X-ORIGINAL-URL:https://old.avertesagoraja.hu
X-WR-CALDESC:Events for A Vértes Agoraja
BEGIN:VTIMEZONE
TZID:Europe/Paris
BEGIN:DAYLIGHT
TZOFFSETFROM:+0100
TZOFFSETTO:+0200
TZNAME:CEST
DTSTART:20180325T010000
END:DAYLIGHT
BEGIN:STANDARD
TZOFFSETFROM:+0200
TZOFFSETTO:+0100
TZNAME:CET
DTSTART:20181028T010000
END:STANDARD
END:VTIMEZONE
BEGIN:VEVENT
DTSTART;TZID=Europe/Paris:20180306T190000
DTEND;TZID=Europe/Paris:20180306T203000
DTSTAMP:20260425T201043
CREATED:20180207T153637Z
LAST-MODIFIED:20180307T094324Z
UID:32489-1520362800-1520368200@old.avertesagoraja.hu
SUMMARY:Duma aktuál
DESCRIPTION:\n\n	\n\n        20180306_01\n\n        \n\n        \n            \n        \n\n         \n\n        \n\n            \n                \n                    ◄ Előző                \n            \n\n            \n                \n                    Következő                    ►\n                \n            \n\n            \n                Kép                1                 /                32            \n\n            \n                  \n            \n\n        \n    \n\n\nA műsor az elmúlt hónap történéseit dolgozza fel havi rendszerességgel\, közélet\, politika\, súlytalan bulvár események\, művészet és kultúra 2*40 percben (néha több)\, szünettel. Vetítések\, videók és váratlan színpadi elemek keverednek helyszíni tudósításokkal és indokolatlan táncbetétekkel. \nA fellépők Ceglédi Zoltán\, Hadházi László\, Kovács András Péter és Litkai Gergely\, a műsorvezető Lovász László. \n  \nBelépőjegyek hamarosan A Vértes Agorája jegypénztárában is kaphatók lesznek. \nUtalványt\, valamint Cafeteria- és SZÉP Kártyát erre a rendezvényre nem áll módunkban elfogadni.\nBővebb információ \n
URL:https://old.avertesagoraja.hu/program/duma-aktual-2/
LOCATION:A Vértes Agorája\, Szent Borbála tér 1.\, Tatabánya\, 2800\, Magyarország
CATEGORIES:Programkínálat
ATTACH;FMTTYPE=image/jpeg:https://old.avertesagoraja.hu/wp-content/uploads/2018/02/Aktual_2018_MARC_800x400_elkelt.jpg
END:VEVENT
END:VCALENDAR