BEGIN:VCALENDAR
VERSION:2.0
PRODID:-//A Vértes Agoraja - ECPv4.9.13//NONSGML v1.0//EN
CALSCALE:GREGORIAN
METHOD:PUBLISH
X-WR-CALNAME:A Vértes Agoraja
X-ORIGINAL-URL:https://old.avertesagoraja.hu
X-WR-CALDESC:Events for A Vértes Agoraja
BEGIN:VTIMEZONE
TZID:Europe/Paris
BEGIN:DAYLIGHT
TZOFFSETFROM:+0100
TZOFFSETTO:+0200
TZNAME:CEST
DTSTART:20200329T010000
END:DAYLIGHT
BEGIN:STANDARD
TZOFFSETFROM:+0200
TZOFFSETTO:+0100
TZNAME:CET
DTSTART:20201025T010000
END:STANDARD
END:VTIMEZONE
BEGIN:VEVENT
DTSTART;TZID=Europe/Paris:20200321T093000
DTEND;TZID=Europe/Paris:20200321T130000
DTSTAMP:20260425T142359
CREATED:20200124T100728Z
LAST-MODIFIED:20200312T145827Z
UID:50627-1584783000-1584795600@old.avertesagoraja.hu
SUMMARY:XI. Dallam Regionális Kórustalálkozó
DESCRIPTION:Kórusban énekelni – bizonyítottan pozitív hatású – különleges élmény. Ugyanakkor nagy fegyelmet és egymásra figyelést kívánó – s éppen ezért rendkívüli kohéziót létrehozó – tevékenység. Kodály Zoltán\, a zenepedagógia világszerte ismert és követett alakja\, a kóruskultúra hazai elemekre épülő ápolását is kiemelkedően fontosnak tartotta. \nEgy ilyen élmény befogadása is örömteli. A kórusban megszólaló emberi énekhang semmi máshoz nem hasonlítható varázslatos hangszer benyomását kelti. \nA Tavaszi Fesztiválnak minden évben részét képezi a Dallam Regionális Kórustalálkozó\, ahol bárki átélheti ezt a felemelő élményt. \n \nA program célja: bemutatkozási és tapasztalatszerzési lehetőséget biztosít a kórusok számára\, valamint baráti és szakmai kapcsolatok kialakítására ad lehetőséget. A családias jellegű fesztivál nem verseny\, de a rendezvény végén szakavatott zsűri összegzi a hallottakat\, és kiemel néhány különösen magas színvonalú produkciót. Az értékelés után rendszerint különdíjak átadására is sor kerül. A fesztivál közös énekkel indul és zárul. \nSzervező: Dallam Zeneiskola.\nZsűri:  Stubendek István karnagy\, a Concordia vegyeskar művészeti vezetője \n \nA fesztivál fő támogatója a \n
URL:https://old.avertesagoraja.hu/program/dallam-korustalalkozo/
LOCATION:A Vértes Agorája\, Szent Borbála tér 1.\, Tatabánya\, 2800\, Magyarország
CATEGORIES:Programkínálat
ATTACH;FMTTYPE=image/jpeg:https://old.avertesagoraja.hu/wp-content/uploads/2020/01/2020_TTF_800_400_dallam.jpg
END:VEVENT
END:VCALENDAR