BEGIN:VCALENDAR
VERSION:2.0
PRODID:-//A Vértes Agoraja - ECPv4.9.13//NONSGML v1.0//EN
CALSCALE:GREGORIAN
METHOD:PUBLISH
X-WR-CALNAME:A Vértes Agoraja
X-ORIGINAL-URL:https://old.avertesagoraja.hu
X-WR-CALDESC:Events for A Vértes Agoraja
BEGIN:VTIMEZONE
TZID:Europe/Paris
BEGIN:DAYLIGHT
TZOFFSETFROM:+0100
TZOFFSETTO:+0200
TZNAME:CEST
DTSTART:20190331T010000
END:DAYLIGHT
BEGIN:STANDARD
TZOFFSETFROM:+0200
TZOFFSETTO:+0100
TZNAME:CET
DTSTART:20191027T010000
END:STANDARD
END:VTIMEZONE
BEGIN:VEVENT
DTSTART;TZID=Europe/Paris:20190608T140000
DTEND;TZID=Europe/Paris:20190608T233000
DTSTAMP:20260425T173940
CREATED:20190401T110123Z
LAST-MODIFIED:20190429T125745Z
UID:43846-1560002400-1560036600@old.avertesagoraja.hu
SUMMARY:Dadabánya
DESCRIPTION:UNDERGROUND MŰVÉSZETI FESZTIVÁL\n2 éves lett a kis Dada. Nem szép gyerek\, de a miénk! Dacos és tiszteletlen is a kis nyavalyás.\nMegkapta a kommersz elleni oltást és a kombináltat (giccs és közhely ellen) is. Készülünk a szülinapi zsúrra. Mindenki hozzon pogácsát és gépzsírt!\nSütibohóc és lufihajtogatás helyett még mélyebbre ásunk a földalatti kultúrába\, egészen a posztmodern közepéig.\nFellépnek Magyarországon világhírű zenekarok.\nEgyenesen a német bányából érkezik Olaf Martin bányászkislányok fotókiállítása\, ami új fényt hoz a tárnák mélyére. \nA Balaton hátán szörföl a Panel surfers.\nIndul a rókavadászat a Rühös Foxikkal.\nHalk zene szól a rozsdás gépek között.\nDr. Máriás a Tudósokkal helyszíni kutatásokat végez.\nÚjra jön a Lyuhász Lyácint Bt. vasat gyűjteni. \nÁrnyas fogaskerekek között Sopotnik Zoli megkérdezi\, hogy mire mennek az írók toll és papír nélkül. \nGaál József és Szurcsik József felélesztik a gólemet. \nHázigazda (porondmester): Réz András esztéta – rendkívül híres filmkritikus és médiaszemélyiség\nSör\, virsli vidámság\,\nDadabánya királyság!\nTöbb tartalom\nhttps://dadabanya.blog.hu \n\nPROGRAM\n  \nZenekarok: \n14:30 Panel surfers\n16:00 Balaton\n17:30 Rühös Foxi\n19:00 Lyuhász Lyácint Bt.\n20:30 Halk\n22:00 Tudósok \nÉlőben festenek: (mindenféle díjas művészek és a jövő reménységei) \nSzurcsik József\nGaál József\nKótai Tamás\, Ferenczy Zsolt\, Matyus Dóra\, Gulyás Andrea\, Jámbor Éva\, Szurcsik Erika. \nÍrók: (rengeteg díjas írók és hasonlók)\nSopotnik Zoltán írókkal beszélget az árnyékban: Dajka Gábor\, Orcsik Roland\, Fenyvesi Ottó\, Komor Zoltán\, Deres Kornélia\, Faludi Ádám \nKiállítás a Kasházban Martin Olaf – Bányászkislányok (Erotica mineralis) fotókiállítása. \nSzabadtéri kiállítás: \n\nKirály gábor\nKun Fruzsina\nVerebics Ágnes\nTóth Norbert\nHuszti János\nKeresztesi Botond\nCsernátony Lukács László\nDóczy Alpár\nKammerlohr Kováts László\nTarczy István\n\nGyereksarok\, \nTe is lehetsz híres 15 percig: a vendégek is beszállhatnak festeni… egy kicsit 🙂 \nKősziklás borok \n
URL:https://old.avertesagoraja.hu/program/dadabanya-2019/
LOCATION:Bányászati és Ipari Skanzen\, Vágóhíd utca 1.\, Tatabánya\, Komárom-Esztergom\, 2800\, Magyarország
CATEGORIES:Programkínálat
ATTACH;FMTTYPE=image/jpeg:https://old.avertesagoraja.hu/wp-content/uploads/2019/04/banner_800x400.jpg
END:VEVENT
END:VCALENDAR