BEGIN:VCALENDAR
VERSION:2.0
PRODID:-//A Vértes Agoraja - ECPv4.9.13//NONSGML v1.0//EN
CALSCALE:GREGORIAN
METHOD:PUBLISH
X-WR-CALNAME:A Vértes Agoraja
X-ORIGINAL-URL:https://old.avertesagoraja.hu
X-WR-CALDESC:Events for A Vértes Agoraja
BEGIN:VTIMEZONE
TZID:Europe/Paris
BEGIN:DAYLIGHT
TZOFFSETFROM:+0100
TZOFFSETTO:+0200
TZNAME:CEST
DTSTART:20190331T010000
END:DAYLIGHT
BEGIN:STANDARD
TZOFFSETFROM:+0200
TZOFFSETTO:+0100
TZNAME:CET
DTSTART:20191027T010000
END:STANDARD
END:VTIMEZONE
BEGIN:VEVENT
DTSTART;TZID=Europe/Paris:20190322T190000
DTEND;TZID=Europe/Paris:20190322T210000
DTSTAMP:20260425T233909
CREATED:20190201T132632Z
LAST-MODIFIED:20190323T070742Z
UID:42328-1553281200-1553288400@old.avertesagoraja.hu
SUMMARY:Csík zenekar
DESCRIPTION:\n\n	\n\n        20190322_01\n\n        \n\n        \n            \n        \n\n         \n\n        \n\n            \n                \n                    ◄ Előző                \n            \n\n            \n                \n                    Következő                    ►\n                \n            \n\n            \n                Kép                1                 /                19            \n\n            \n                  \n            \n\n        \n    \n\n\nA hatalmas népszerűségnek örvendő Kossuth- és Fonogram díjas zenekar elismert közreműködője Magyarország népzenei életének. Lemezeik a megjelenés után rendre a sikerlisták élére kerülnek\, fellépéseiken pedig mindig telt  ház fogadja őket.  \nNemrégiben fejezték be jubileumi turnéjukat – tavaly ünnepelték fennállásuk 30. évfordulóját. S bár májusig koncertszünetet terveztek\, a Tatabányai Tavaszi Fesztivál kedvéért kivételt tesznek\, s színpadra állnak\, hogy megnyissák a város és térsége kiemelkedő kulturális és művészeti programsorozatát. \nA Csík zenekar hitvallása az újabb harminc év kezdetén: \n“Jövőbeli műsorainkban a közönségünk által szeretett igényes\, sokszínű zenei világunkat visszük tovább az új dalainkban\, miközben megidézzük azokat a régi szép összeállításokat is\, amelyek nemcsak a mi szívünkben\, a közönségünk lelkében\, hanem az utóbbi évtizedek magyar zenei palettáján is nyomot hagytak végérvényesen.”  \n \nJegyárak:\n4.900 Ft (Korai elővételben\, február 28-áig)\n5.000 Ft (Tatabánya Kártyával)\n5.900 Ft (Teljes áron)\nBelépőjegyek A Vértes Agorája jegypénztárában is kaphatók.\nUtalványt\, valamint Cafeteria- és SZÉP Kártyát erre a rendezvényre elfogadunk.\nBővebb információ\n \n \n \nA fesztivál fő támogatója a \nBRIDGESTONE\n
URL:https://old.avertesagoraja.hu/program/csik-zenekar/
LOCATION:A Vértes Agorája\, Szent Borbála tér 1.\, Tatabánya\, 2800\, Magyarország
CATEGORIES:Programkínálat
ATTACH;FMTTYPE=image/jpeg:https://old.avertesagoraja.hu/wp-content/uploads/2019/02/TTF_2019_800x400_CSIK.jpg
END:VEVENT
END:VCALENDAR