BEGIN:VCALENDAR
VERSION:2.0
PRODID:-//A Vértes Agoraja - ECPv4.9.13//NONSGML v1.0//EN
CALSCALE:GREGORIAN
METHOD:PUBLISH
X-WR-CALNAME:A Vértes Agoraja
X-ORIGINAL-URL:https://old.avertesagoraja.hu
X-WR-CALDESC:Events for A Vértes Agoraja
BEGIN:VTIMEZONE
TZID:Europe/Paris
BEGIN:DAYLIGHT
TZOFFSETFROM:+0100
TZOFFSETTO:+0200
TZNAME:CEST
DTSTART:20200329T010000
END:DAYLIGHT
BEGIN:STANDARD
TZOFFSETFROM:+0200
TZOFFSETTO:+0100
TZNAME:CET
DTSTART:20201025T010000
END:STANDARD
END:VTIMEZONE
BEGIN:VEVENT
DTSTART;TZID=Europe/Paris:20201022T190000
DTEND;TZID=Europe/Paris:20201022T203000
DTSTAMP:20260425T112733
CREATED:20200903T091606Z
LAST-MODIFIED:20201026T062741Z
UID:52306-1603393200-1603398600@old.avertesagoraja.hu
SUMMARY:Hogyan értsük félre a nőket?
DESCRIPTION:\n\n\n\n 	\n\n        \n\n            \n        \n\n         \n\n\n        \n\n            \n        \n\n         \n\n\n        \n\n            \n        \n\n         \n\n\n        \n\n            \n        \n\n         \n\n\n        \n\n            \n        \n\n         \n\n\n        \n\n            \n        \n\n         \n\n\n        \n\n            \n        \n\n         \n\n\n        \n\n            \n        \n\n         \n\n\n        \n\n            \n        \n\n         \n\n\n        \n\n            \n        \n\n         \n\n\n        \n\n            \n        \n\n         \n\n\n        \n\n            \n        \n\n         \n\n\n        \n\n            \n        \n\n         \n\n\n        \n\n            \n        \n\n         \n\n\n\n		\n	\n        [Bélyegképek megjelenítése]\n	\n\n\n  \nCSÁNYI SÁNDOR VÍGJÁTÉKA\nMi a teendő abban az esetben\, ha az ember a szülőszoba ajtajában döbben rá arra\, hogy nemcsak a gyerekekkel nem tud bánni\, a nőkkel sem? Miért a mi hibánk\, ha Ők rosszat álmodnak? Miért baj\, ha őszintén válaszolunk arra kérdésre\, hogy fogytam-e? Érdemes-e\, a friss jogosítvánnyal vezető feleségünknek tanácsokat osztogatni a forgalomban? Eljön-e az a pillanat egy nő életében\, amikor azt mondja: Köszönöm\, van elég cipőm\, nem kell több. Illetve\, hogy mindezek ellenére\, miért dobban meg mégis a szívünk\, ha belép a szobába? \nNos\, ezekre a kérdésekre nem tud választ adni az előadás. Viszont számos hasonló kérdést vet fel az együttélés nehézségeiről\, szépségeiről\, öröméről. (Magunk között szólva: inkább nehézségeiről.)\nEgyszemélyes vígjáték\, nyolc különböző karakter\, nyolcvan percben. Csányi Sándor előadásában.\nEgy részben\, szünet nélkül. \nCsányi Sándorral – az előadás kapcsán – készült interjúnkat ITT olvashatja el. \nBelépőjegyek A Vértes Agorája jegypénztárában is kaphatók:\nVízszintes 1-3. sor: 6.900 Ft\nVízszintes 4-8. sor: 5.900 Ft\nEmelkedő 1-8. sor: 5.900 Ft\nEmelkedő 9-10. sor: 4.900 Ft\nUtalványt\, valamint Cafeteria- és SZÉP Kártyát erre a rendezvényre nem áll módunkban elfogadni.\nBővebb információ\n
URL:https://old.avertesagoraja.hu/program/csanyi-sandor-6-2/
LOCATION:A Vértes Agorája\, Szent Borbála tér 1.\, Tatabánya\, 2800\, Magyarország
CATEGORIES:Programkínálat
ATTACH;FMTTYPE=image/jpeg:https://old.avertesagoraja.hu/wp-content/uploads/2019/09/csanyi_800x400.jpg
END:VEVENT
END:VCALENDAR