BEGIN:VCALENDAR
VERSION:2.0
PRODID:-//A Vértes Agoraja - ECPv4.9.13//NONSGML v1.0//EN
CALSCALE:GREGORIAN
METHOD:PUBLISH
X-WR-CALNAME:A Vértes Agoraja
X-ORIGINAL-URL:https://old.avertesagoraja.hu
X-WR-CALDESC:Events for A Vértes Agoraja
BEGIN:VTIMEZONE
TZID:Europe/Paris
BEGIN:DAYLIGHT
TZOFFSETFROM:+0100
TZOFFSETTO:+0200
TZNAME:CEST
DTSTART:20220327T010000
END:DAYLIGHT
BEGIN:STANDARD
TZOFFSETFROM:+0200
TZOFFSETTO:+0100
TZNAME:CET
DTSTART:20221030T010000
END:STANDARD
END:VTIMEZONE
BEGIN:VEVENT
DTSTART;TZID=Europe/Paris:20220311T190000
DTEND;TZID=Europe/Paris:20220311T203000
DTSTAMP:20260425T201117
CREATED:20220125T075306Z
LAST-MODIFIED:20220310T163518Z
UID:57606-1647025200-1647030600@old.avertesagoraja.hu
SUMMARY:Hogyan értsük félre a nőket?
DESCRIPTION:Kedves Közönségünk!\nSajnáljuk\, hogy ezt a hírt kell közölnünk\, de az előadás Csányi Sándor betegsége miatt elmarad.\nAz új időpont: 2022. május 19.\, 19:00 h\nA megvásárolt jegyek automatikusan érvényesek az új időpontra vagy visszaválthatóak.\nA szervezők kérik\, hogy akinek az új időpont nem felel meg\, jelezze azt a jegy@csanyisandor.hu e-mail címen 2022.03.15. 23:59-ig.  \n\nCSÁNYI SÁNDOR VÍGJÁTÉKA\nMi a teendő abban az esetben\, ha az ember a szülőszoba ajtajában döbben rá arra\, hogy nemcsak a gyerekekkel nem tud bánni\, a nőkkel sem? Miért a mi hibánk\, ha Ők rosszat álmodnak? Miért baj\, ha őszintén válaszolunk arra kérdésre\, hogy fogytam-e? Érdemes-e\, a friss jogosítvánnyal vezető feleségünknek tanácsokat osztogatni a forgalomban? Eljön-e az a pillanat egy nő életében\, amikor azt mondja: Köszönöm\, van elég cipőm\, nem kell több. Illetve\, hogy mindezek ellenére\, miért dobban meg mégis a szívünk\, ha belép a szobába? \nNos\, ezekre a kérdésekre nem tud választ adni az előadás. Viszont számos hasonló kérdést vet fel az együttélés nehézségeiről\, szépségeiről\, öröméről. (Magunk között szólva: inkább nehézségeiről.)\nEgyszemélyes vígjáték\, nyolc különböző karakter\, nyolcvan percben. Csányi Sándor előadásában.\nEgy részben\, szünet nélkül. \nCsányi Sándorral – az előadás kapcsán – készült interjúnkat ITT olvashatja el. \nBelépőjegyeket csak online lehet vásárolni.\nVízszintes 1. – Emelkedő 2.: 6.900 Ft\nEmelkedő 3-10.: 5.900 Ft\n
URL:https://old.avertesagoraja.hu/program/csanyi-sandor-2022-2/
LOCATION:A Vértes Agorája\, Szent Borbála tér 1.\, Tatabánya\, 2800\, Magyarország
CATEGORIES:Befogadott rendezvény,Programkínálat
ATTACH;FMTTYPE=image/jpeg:https://old.avertesagoraja.hu/wp-content/uploads/2022/01/sanyi-e1646930111682.jpg
END:VEVENT
END:VCALENDAR