BEGIN:VCALENDAR
VERSION:2.0
PRODID:-//A Vértes Agoraja - ECPv4.9.13//NONSGML v1.0//EN
CALSCALE:GREGORIAN
METHOD:PUBLISH
X-WR-CALNAME:A Vértes Agoraja
X-ORIGINAL-URL:https://old.avertesagoraja.hu
X-WR-CALDESC:Events for A Vértes Agoraja
BEGIN:VTIMEZONE
TZID:Europe/Paris
BEGIN:DAYLIGHT
TZOFFSETFROM:+0100
TZOFFSETTO:+0200
TZNAME:CEST
DTSTART:20190331T010000
END:DAYLIGHT
BEGIN:STANDARD
TZOFFSETFROM:+0200
TZOFFSETTO:+0100
TZNAME:CET
DTSTART:20191027T010000
END:STANDARD
END:VTIMEZONE
BEGIN:VEVENT
DTSTART;TZID=Europe/Paris:20190718T160000
DTEND;TZID=Europe/Paris:20190718T170000
DTSTAMP:20260426T032952
CREATED:20190618T090118Z
LAST-MODIFIED:20190720T130315Z
UID:45920-1563465600-1563469200@old.avertesagoraja.hu
SUMMARY:Családi mesedélutánok I.
DESCRIPTION:\n\n	\n\n        20190718_01\n\n        \n\n        \n            \n        \n\n         \n\n        \n\n            \n                \n                    ◄ Előző                \n            \n\n            \n                \n                    Következő                    ►\n                \n            \n\n            \n                Kép                1                 /                27            \n\n            \n                  \n            \n\n        \n    \n\n\n \nNyáresti ücsörgés óvodásoknak és kisiskolásoknak\nViolin király és Hanga királykisasszony\nzenés mesejáték \nÍrta: G. Száz Ilona | Jelmez: Kires Ica | Báb: Bartal Kiss Rita \nZenéjét írta és előadja:\nJoós Tamás \n \nA Családi mesedélutánok helyszíne a Zenepavilon\,\nkedvezőtlen időjárás esetén pedig A Vértes Agorája nagyterme.\n  \n
URL:https://old.avertesagoraja.hu/program/csaladi-mesedelutanok-i/
LOCATION:Zenepavilon\, Fő tér\, Tatabánya\, Komárom-Esztergom\, 2800\, Magyarország
CATEGORIES:Programkínálat
ATTACH;FMTTYPE=image/jpeg:https://old.avertesagoraja.hu/wp-content/uploads/2019/06/Mesedelutanok_2019_800x400.jpg
END:VEVENT
END:VCALENDAR