BEGIN:VCALENDAR
VERSION:2.0
PRODID:-//A Vértes Agoraja - ECPv4.9.13//NONSGML v1.0//EN
CALSCALE:GREGORIAN
METHOD:PUBLISH
X-WR-CALNAME:A Vértes Agoraja
X-ORIGINAL-URL:https://old.avertesagoraja.hu
X-WR-CALDESC:Events for A Vértes Agoraja
BEGIN:VTIMEZONE
TZID:Europe/Paris
BEGIN:DAYLIGHT
TZOFFSETFROM:+0100
TZOFFSETTO:+0200
TZNAME:CEST
DTSTART:20170326T010000
END:DAYLIGHT
BEGIN:STANDARD
TZOFFSETFROM:+0200
TZOFFSETTO:+0100
TZNAME:CET
DTSTART:20171029T010000
END:STANDARD
END:VTIMEZONE
BEGIN:VEVENT
DTSTART;TZID=Europe/Paris:20171122T203000
DTEND;TZID=Europe/Paris:20171122T220000
DTSTAMP:20260425T200914
CREATED:20170904T084205Z
LAST-MODIFIED:20171024T142554Z
UID:26536-1511382600-1511388000@old.avertesagoraja.hu
SUMMARY:Nincs idő a gólörömre! - Bödőcs Tibor önálló estje (ráadás)
DESCRIPTION:Jegyvásárlás\n  \nA nagy érdeklődésre való tekintettel Bödőcs Tibor duplázik Tatabányán! \nBödőcs Tibor visszatér Tatabányára\, és folytatja\, amit abba sem hagyott. Új estjében nem kímél senkit. Majd meglátják! \nElőzenekar: Tóth Edu \n  \nBelépőjegyek A Vértes Agorája jegypénztárában is kaphatók. \nUtalványt\, valamint Cafeteria- és SZÉP Kártyát erre a rendezvényre nem áll módunkban elfogadni.\nBővebb információ \n
URL:https://old.avertesagoraja.hu/program/bodocs-raadas/
LOCATION:A Vértes Agorája\, Szent Borbála tér 1.\, Tatabánya\, 2800\, Magyarország
CATEGORIES:Programkínálat
ATTACH;FMTTYPE=image/jpeg:https://old.avertesagoraja.hu/wp-content/uploads/2017/08/Bodocs_800x400_elkelt.jpg
END:VEVENT
END:VCALENDAR