BEGIN:VCALENDAR
VERSION:2.0
PRODID:-//A Vértes Agoraja - ECPv4.9.13//NONSGML v1.0//EN
CALSCALE:GREGORIAN
METHOD:PUBLISH
X-WR-CALNAME:A Vértes Agoraja
X-ORIGINAL-URL:https://old.avertesagoraja.hu
X-WR-CALDESC:Events for A Vértes Agoraja
BEGIN:VTIMEZONE
TZID:Europe/Paris
BEGIN:DAYLIGHT
TZOFFSETFROM:+0100
TZOFFSETTO:+0200
TZNAME:CEST
DTSTART:20200329T010000
END:DAYLIGHT
BEGIN:STANDARD
TZOFFSETFROM:+0200
TZOFFSETTO:+0100
TZNAME:CET
DTSTART:20201025T010000
END:STANDARD
END:VTIMEZONE
BEGIN:VEVENT
DTSTART;TZID=Europe/Paris:20201203T190000
DTEND;TZID=Europe/Paris:20201203T203000
DTSTAMP:20260425T030725
CREATED:20201105T134522Z
LAST-MODIFIED:20201109T130313Z
UID:53323-1607022000-1607027400@old.avertesagoraja.hu
SUMMARY:Tatabányai Black Diamond Big Band
DESCRIPTION:  \n Vendégművész: \nSZULÁK ANDREA\n\nA többségében Tatabányán\, s környékén élő művészekből és művésztanárokból álló Black Diamond Big Band 22 éve színesíti a város – és az ország – jazz zenei életét. A műfaj gyökereiből táplálkozó kortárs jazz és big band zenét játszó együttes az év utolsó hónapjára is tartogat meglepetést: a széles skálát átölelő repertoárjuk legjavát hozzák el az Agorába. \nAz együttes alapítója és vezetője: Ludányi Tamás\nMűvészeti vezető: Elek István \nHitvallásuk: a kortárs jazz\, big band zene művelése mellett ápolni a kapcsolatot a műfaj gyökereivel\, s közkinccsé tenni annak értékeit\, a szakmai tapasztalatot pedig tovább adni a fiatal muzsikus generációnak.  \nBelépőjegyek az Agora jegypénztárában is kaphatók: egységesen 2.000 Ft.\nUtalványt\, valamint Cafeteria- és SZÉP Kártyát erre a rendezvényre elfogadunk.\nBővebb információ\n\nKedves Látogatóink!\nKérjük\, számoljanak azzal\, hogy kizárólag azon a széken foglalhatnak helyet\, amelyre a belépőjegyük szól. Azok a nézők sem ülhetnek egymás mellé\, akik egy háztartásban élnek.\nAz Agorában felkészült stáb gondoskodik arról\, hogy programjaink a hatályban lévő rendelkezések maradéktalan betartása mellett valósuljanak meg. Számítunk arra\, hogy ebben Önök is partnerek lesznek! \n
URL:https://old.avertesagoraja.hu/program/black-diamond-big-band-szulak/
LOCATION:A Vértes Agorája\, Szent Borbála tér 1.\, Tatabánya\, 2800\, Magyarország
CATEGORIES:Programkínálat
ATTACH;FMTTYPE=image/jpeg:https://old.avertesagoraja.hu/wp-content/uploads/2020/11/2020_800x400_Big_Band.jpg
END:VEVENT
END:VCALENDAR