BEGIN:VCALENDAR
VERSION:2.0
PRODID:-//A Vértes Agoraja - ECPv4.9.13//NONSGML v1.0//EN
CALSCALE:GREGORIAN
METHOD:PUBLISH
X-WR-CALNAME:A Vértes Agoraja
X-ORIGINAL-URL:https://old.avertesagoraja.hu
X-WR-CALDESC:Events for A Vértes Agoraja
BEGIN:VTIMEZONE
TZID:Europe/Paris
BEGIN:DAYLIGHT
TZOFFSETFROM:+0100
TZOFFSETTO:+0200
TZNAME:CEST
DTSTART:20200329T010000
END:DAYLIGHT
BEGIN:STANDARD
TZOFFSETFROM:+0200
TZOFFSETTO:+0100
TZNAME:CET
DTSTART:20201025T010000
END:STANDARD
END:VTIMEZONE
BEGIN:VEVENT
DTSTART;TZID=Europe/Paris:20200325T190000
DTEND;TZID=Europe/Paris:20200325T203000
DTSTAMP:20260425T174611
CREATED:20200127T154245Z
LAST-MODIFIED:20200318T121747Z
UID:50743-1585162800-1585168200@old.avertesagoraja.hu
SUMMARY:Tatabányai Black Diamond Big Band
DESCRIPTION:A rendezvény elmarad. A belépőjegyek visszaváltására – a vásárlás helyén – lesz lehetőség.\nEnnek menetéről bővebb információ ITT érhető el.\n \n  \n\nVendégművészek: \nPocsai Kriszta és Gyárfás István\nA várost az ország “jazztérképére” helyező Tatabányai Black Diamond Big Band koncertje elmaradhatatlan része a Tavaszi Fesztiválnak. \nA jazz éppen divatos fősodra mellett a műfaj gyökereit is mindig megmutató együttes a fesztiválra minden évben új programmal készül\, s vendégművészekkel egészül ki. Idén az egyik legnépszerűbb magyar jazzénekesnő\, Pocsai Kriszta és a műfaj nagyágyúival különböző formációkban fellépő és alkotó Gyárfás István (Gyafi) lép színpadra a big banddel. \nA művésztanárokból\, növendékekből és jazz zenészekből álló – több mint húsz éves – formáció hitvallása: a kortárs jazz\, big band zene művelése mellett ápolni a kapcsolatot a műfaj gyökereivel\, s közkinccsé tenni annak értékeit\, a szakmai tapasztalatot pedig tovább adni a fiatal muzsikus generációnak.  \nAz együttes alapítója és vezetője: Ludányi Tamás\nMűvészeti vezető: Elek István \n \nBelépőjegyek A Vértes Agorája jegypénztárában is kaphatók.\n3.300 Ft (Teljes ár)\n2.700 Ft (Korai elővételben\, 2020. február 29-éig)\nUtalványt\, valamint Cafeteria- és SZÉP Kártyát erre a rendezvényre elfogadunk.\nBővebb információ\n  \n \nA fesztivál fő támogatója a \n
URL:https://old.avertesagoraja.hu/program/black-diamond-big-band-2020/
LOCATION:A Vértes Agorája\, Szent Borbála tér 1.\, Tatabánya\, 2800\, Magyarország
CATEGORIES:Programkínálat,Saját szervezésű rendezvény
ATTACH;FMTTYPE=image/jpeg:https://old.avertesagoraja.hu/wp-content/uploads/2020/01/2020_TTF_800_400_big_band.jpg
END:VEVENT
END:VCALENDAR