BEGIN:VCALENDAR
VERSION:2.0
PRODID:-//A Vértes Agoraja - ECPv4.9.13//NONSGML v1.0//EN
CALSCALE:GREGORIAN
METHOD:PUBLISH
X-WR-CALNAME:A Vértes Agoraja
X-ORIGINAL-URL:https://old.avertesagoraja.hu
X-WR-CALDESC:Events for A Vértes Agoraja
BEGIN:VTIMEZONE
TZID:Europe/Paris
BEGIN:DAYLIGHT
TZOFFSETFROM:+0100
TZOFFSETTO:+0200
TZNAME:CEST
DTSTART:20180325T010000
END:DAYLIGHT
BEGIN:STANDARD
TZOFFSETFROM:+0200
TZOFFSETTO:+0100
TZNAME:CET
DTSTART:20181028T010000
END:STANDARD
END:VTIMEZONE
BEGIN:VEVENT
DTSTART;TZID=Europe/Paris:20180129T150000
DTEND;TZID=Europe/Paris:20180129T170000
DTSTAMP:20260425T024603
CREATED:20180104T153401Z
LAST-MODIFIED:20180130T111309Z
UID:31036-1517238000-1517245200@old.avertesagoraja.hu
SUMMARY:Billy Elliot
DESCRIPTION:[vc_row][vc_column][vc_column_text] \n\n\n	\n\n        20180129_01\n\n        \n\n        \n            \n        \n\n         \n\n        \n\n            \n                \n                    ◄ Előző                \n            \n\n            \n                \n                    Következő                    ►\n                \n            \n\n            \n                Kép                1                 /                12            \n\n            \n                  \n            \n\n        \n    \n\n\n \n[/vc_column_text][/vc_column][/vc_row][vc_row][vc_column][vc_column_text] \nAgora filmklub 2018\n– a fiatalabb korosztályok számára –\n\n[/vc_column_text][/vc_column][/vc_row][vc_row][vc_column][vc_column_text] \nBilly Elliot\n \nmagyarul beszélő\, angol filmdráma | 110 perc | 2000 \n12 éven aluliak számára a megtekintése nagykorú felügyelete mellett ajánlott\n[/vc_column_text][/vc_column][/vc_row][vc_row][vc_column][vc_column_text] \nA rendezvény egyénileg és csoportosan is látogatható.\nBővebb információ kérhető\nFatuska Máté kollégánktól: +36 30 476 7688  \n[/vc_column_text][/vc_column][/vc_row][vc_row][vc_column][vc_column_text][/vc_column_text][/vc_column][/vc_row][vc_row][vc_column][vc_column_text] \nAmikor a 11 éves Billy a bokszedzésen megpillantja a terem másik sarkában folyó balettórát\, a mozdulatok varázsa többet nem engedi szabadon képzeletét. Hamar balettcipőre váltja bokszkesztyűit\, hogy titkon besurranhasson Mrs. Wilkinson óráira\, aki jó szemmel felismeri Billy tehetségét. Eközben Billy apja és bátyja\, Tony\, akik mindketten részt vesznek a bányászsztrájkban\, csak nagy nehézségek árán tudnak kenyeret tenni a család asztalára. Keserűségük gátja akkor szakad át\, amikor rájönnek\, hogy a bokszedzésekre szánt pénzt Billy kevésbé férfias elfoglaltságra pazarolja. Mrs. Wilkinson azonban rábeszéli Billyt\, hogy – ingyen – magánórákon taníthassa\, és felvételire küldi a balettiskolába. Az intenzív felkészülés mindkettejüket alaposan próbára teszi\, és amikor eljön a nagy nap\, Billy – Tony összetűzése miatt a rendőrséggel – elszalasztja a felvételit. Mrs. Wilkinson a maga kezébe akarja venni a dolgok irányítását\, megkísérli elmagyarázni Billy apjának\, milyen nagy esélyt szalaszt el a fia\, de a dühöngő Tony – Billyt is megalázva – elzavarja a tanárnőt. Billy a meg nem értettség feletti elkeseredését egy táncban beszéli el Michaelnek – produkciójának véletlenül édesapja is szemtanúja lesz\, akinek a földbe gyökerezik a lába fia teljesítményének láttán. Beleegyezik\, hogy Billy még egy esélyt kapjon a londoni felvételin. Bányásztársainak segítségével apa és fia útra kelhetnek\, hogy a fővárosban próbáljanak szerencsét. \n[/vc_column_text][/vc_column][/vc_row][vc_row][vc_column width=”1/2″][vc_column_text] \n\n\nSzereplők\n\n\n\nBilly Elliot Jamie Bell  \n\n\nMrs. Wilkinson Julie Walters  \n\n\nJackie Elliot\, Billy apja\n  Gary Lewis  \n\n\nTony Elliot Jamie Draven  \n\n\nnagymama Jean Heywood  \n\n\nMichael Stuart Wells  \n\n\nGeorge Watson Mike Elliott  \n\n\nBilly anyja Janine Birkett  \n\n\nBilly 25 éves korában\n  Adam Cooper  \n\n\nDebbie Wilkinson Nicola Blackwell  \n\n\n\n\n\n[/vc_column_text][/vc_column][vc_column width=”1/2″][vc_column_text] \n\n\nAlkotók\nrendező:   Stephen Daldry \nforgatókönyvíró:   Lee Hall  \nzeneszerző:   Stephen Warbeck\n operatőr:   Brian Tufano\ndíszlettervező:   Adam O’Neill \njelmeztervező:   Stewart Meachem  \nlátványtervező:   Maria Djurkovic\nvágó:   John Wilson \n\n\n\n[/vc_column_text][/vc_column][/vc_row] \n
URL:https://old.avertesagoraja.hu/program/billy-elliot/
LOCATION:A Vértes Agorája\, Szent Borbála tér 1.\, Tatabánya\, 2800\, Magyarország
CATEGORIES:Programkínálat
ATTACH;FMTTYPE=image/jpeg:https://old.avertesagoraja.hu/wp-content/uploads/2018/01/Agora_Filmklub_2018_800x400_2.jpg
END:VEVENT
END:VCALENDAR