BEGIN:VCALENDAR
VERSION:2.0
PRODID:-//A Vértes Agoraja - ECPv4.9.13//NONSGML v1.0//EN
CALSCALE:GREGORIAN
METHOD:PUBLISH
X-WR-CALNAME:A Vértes Agoraja
X-ORIGINAL-URL:https://old.avertesagoraja.hu
X-WR-CALDESC:Events for A Vértes Agoraja
BEGIN:VTIMEZONE
TZID:Europe/Helsinki
BEGIN:DAYLIGHT
TZOFFSETFROM:+0200
TZOFFSETTO:+0300
TZNAME:EEST
DTSTART:20230326T010000
END:DAYLIGHT
BEGIN:STANDARD
TZOFFSETFROM:+0300
TZOFFSETTO:+0200
TZNAME:EET
DTSTART:20231029T010000
END:STANDARD
END:VTIMEZONE
BEGIN:VEVENT
DTSTART;TZID=Europe/Helsinki:20230922T070000
DTEND;TZID=Europe/Helsinki:20230922T190000
DTSTAMP:20260425T160523
CREATED:20230911T142659Z
LAST-MODIFIED:20230919T150817Z
UID:61582-1695366000-1695409200@old.avertesagoraja.hu
SUMMARY:Bicón Által-ér(sz)
DESCRIPTION:A biciklis közlekedést népszerűsítő aktivitásokkal várjuk az érdeklődőket szeptember 22-én\, kora reggeltől estig\, Tatabányán\, a Megyeháza téren és az Által-ér menti kerékpárút több\, tatabányai pontján. A Bicón Által-ér(sz) nevű európai uniós forrásból megvalósuló program részeként lesz bringás reggeli\, Által-ér menti kincskeresés\, velocipéd\, teremkerékpáros bemutató\, biciklis ügyességi mobilpálya\, digitális bringaverseny\, közlekedésbiztonsági kvíz\, bicikli szerviz és még sok más izgalmas és tartalmas bemutató. \n \nRészletes program:\n  \n07:00-08:00 | Bringás reggeli\nAz Által-ér völgyi kerékpárút tatabányai szakaszának frekventált pontjain: \nSzolgáltató ház előtti kerékpárút mentén \nBúzavirág utca – Szőlődomb utca kereszteződésnél \nKertvárosi összekötő szakasz\, a Tata és Oroszlány felé menő bicikli úton \n  \n10:00-10:45 | „Két keréken a suliba!”\nBiciklis közlekedésbiztonsági előadás A Vértes Agorájában. \n  \n15:00-18:30 | Kincskeresés az Által-ér mentén\n(Az Által-ér völgyi kerékpárút tatabányai szakaszán.) \n  \n16:00-16:45 | Rajzpályázat eredményhirdetése\n– futóbiciklik ünnepélyes átadása a helyi óvodák részére\n(Megyeháza tér) \n  \n17:00-17:30 | Velocipéd bemutató\n(Megyeháza tér) \n  \n17:30-18:00 | Teremkerékpár bemutató\n(Megyeháza tér) \n  \n18:00-18:30 | Kerékpáros Trailshow\n(Megyeháza tér) \n  \nÁllandó aktivitások 15:00-19:00-ig a Megyeháza téren:\nkerge-tricikli és kerge bicikli | turmixbringa | áramfejlesztő bicikli | Goldsprint – digitális bringaverseny | biciklis ügyességi mobilpálya | közlekedésbiztonsági kvíz | bicikli szervíz | kerékpár kiállítás | velocipéd gyerekeknek \n \nA program az Által-ér völgyi kerékpárút II. ütem – a tatabányai szakasz és csatlakozások kiépítése című TOP-6.4.1-16-TB1-2017-00001 azonosítószámú projekt keretében valósul meg. \n \n
URL:https://old.avertesagoraja.hu/program/bicon-altal-ersz/
LOCATION:A Vértes Agorája\, Szent Borbála tér 1.\, Tatabánya\, 2800\, Magyarország
CATEGORIES:Programkínálat,Saját szervezésű rendezvény
ATTACH;FMTTYPE=image/jpeg:https://old.avertesagoraja.hu/wp-content/uploads/2023/09/aLTALER_800X400.jpg
END:VEVENT
END:VCALENDAR