BEGIN:VCALENDAR
VERSION:2.0
PRODID:-//A Vértes Agoraja - ECPv4.9.13//NONSGML v1.0//EN
CALSCALE:GREGORIAN
METHOD:PUBLISH
X-WR-CALNAME:A Vértes Agoraja
X-ORIGINAL-URL:https://old.avertesagoraja.hu
X-WR-CALDESC:Events for A Vértes Agoraja
BEGIN:VTIMEZONE
TZID:Europe/Paris
BEGIN:DAYLIGHT
TZOFFSETFROM:+0100
TZOFFSETTO:+0200
TZNAME:CEST
DTSTART:20190331T010000
END:DAYLIGHT
BEGIN:STANDARD
TZOFFSETFROM:+0200
TZOFFSETTO:+0100
TZNAME:CET
DTSTART:20191027T010000
END:STANDARD
END:VTIMEZONE
BEGIN:VEVENT
DTSTART;TZID=Europe/Paris:20190602T160000
DTEND;TZID=Europe/Paris:20190602T173000
DTSTAMP:20260425T034954
CREATED:20190418T130918Z
LAST-MODIFIED:20190604T053720Z
UID:44394-1559491200-1559496600@old.avertesagoraja.hu
SUMMARY:Bányász Mazsorett Együttes - Táncgála
DESCRIPTION:\n\n	\n\n        20190602_01\n\n        \n\n        \n            \n        \n\n         \n\n        \n\n            \n                \n                    ◄ Előző                \n            \n\n            \n                \n                    Következő                    ►\n                \n            \n\n            \n                Kép                1                 /                24            \n\n            \n                  \n            \n\n        \n    \n\n\n \nIsmét eltelt egy év\, s elérkezett a gála ideje. Az elmúlt időszakban tanultakat a megyei Príma-díjas Bányász Mazsorett Együttes színes\, látványos előadás formájában mutatja be az érdeklődőknek.  \n \nBelépőjegyek A Vértes Agorája jegypénztárában is kaphatók: 2.000 Ft.\nUtalványt\, valamint Cafeteria- és SZÉP Kártyát erre a rendezvényre nem áll módunkban elfogadni. Bővebb információ\n  \n
URL:https://old.avertesagoraja.hu/program/banyasz-mazsorett-galamusor-2019/
LOCATION:A Vértes Agorája\, Szent Borbála tér 1.\, Tatabánya\, 2800\, Magyarország
CATEGORIES:Programkínálat
ATTACH;FMTTYPE=image/jpeg:https://old.avertesagoraja.hu/wp-content/uploads/2019/04/Mazsorett_2019_800x400.jpg
END:VEVENT
END:VCALENDAR