BEGIN:VCALENDAR
VERSION:2.0
PRODID:-//A Vértes Agoraja - ECPv4.9.13//NONSGML v1.0//EN
CALSCALE:GREGORIAN
METHOD:PUBLISH
X-WR-CALNAME:A Vértes Agoraja
X-ORIGINAL-URL:https://old.avertesagoraja.hu
X-WR-CALDESC:Events for A Vértes Agoraja
BEGIN:VTIMEZONE
TZID:Europe/Paris
BEGIN:DAYLIGHT
TZOFFSETFROM:+0100
TZOFFSETTO:+0200
TZNAME:CEST
DTSTART:20200329T010000
END:DAYLIGHT
BEGIN:STANDARD
TZOFFSETFROM:+0200
TZOFFSETTO:+0100
TZNAME:CET
DTSTART:20201025T010000
END:STANDARD
END:VTIMEZONE
BEGIN:VEVENT
DTSTART;TZID=Europe/Paris:20201114T190000
DTEND;TZID=Europe/Paris:20201114T210000
DTSTAMP:20260425T171513
CREATED:20201020T094801Z
LAST-MODIFIED:20201109T131124Z
UID:53200-1605380400-1605387600@old.avertesagoraja.hu
SUMMARY:Bach és Bacchus
DESCRIPTION:A programot partnerünk – az épületben működő – \nAgora Étterem és Kávézó szervezi.\nJegyeket az étteremben lehet vásárolni. \nTovábbi információ: +36 30 320 9321 \nAz orgonánál\nRÁKÁSZ GERGELY\na borokat bemutatja\nTAKÁCS ZOLTÁN\nséf HORVÁTH CSABA\nBacchus a bor és mámor istene. Meghaló és feltámadó isten\, mint Ozirisz\, Adonisz\, vagy Krisztus. A legősibb tanítást szimbolizálja tehát\, az önmaga áldozata által új életre kelő természetet. Mámoros lakománkon a valaha élt legnagyobb zeneszerző\, Johann Sebastian Bach és kortársai muzsikája kísér bennünket. Az isteni mérték szerint házasítsunk zenét\, italt és ételt\, hogy utazásunkon az érdekes történetekből és az egymást kiegészítő élményekből megsejtsünk valamit a régiek igazságából\, amelyet Hérakleitosz úgy fogalmazott meg: „Hen panta einai” azaz Minden egy. Lakoma lesz ez? Szümposzion vagy istentisztelet? Egy mámoros este vagy koncert? A végén megtudjuk. \nHANDEL: – Tűzijáték szvit részletek \nBOR: Holdvölgy Pincészet Tokaji UPP gyöngyözőbor 2018.\nÉTEL: Frissen sült pogácsa az asztalokon\nKirályi ünnepség\, politika és a művészet összefonódása. Handel a remek üzletember\, aki jó kapcsolatokat ápolt a királlyal\, hogy megcsíphetett egy ilyen megrendelést. \nVIVALDI: – Tavasz I. Tétel \nBOR: Hangyál Balázs Pannonhalmi „csicsergő” Sauvignon Blanc 2019.\nÉTEL: Sajtválogatás dióval szőlővel mikrozöldekkel\nA természet tisztasága és szeretete. Ifjúság\, felfedezés\, gondtalanság\, a népszerű Árkádiai idill. Rousseau nemes vadembere. \nBACH: – Ária a D-dúr szvitből \nBOR: Kázsmér Pincészet Balatoni Viognier 2017.\nÉTEL: Kakukkfüves libamájpástétom chilis füge chutneyval\, mákos kaláccsal\nFőúri vacsora\, Bach Köthenben Lipót herceg udvari muzsikusaként esténként a hercegi házaspár\, esetleg a vendégeik részére adott házi koncerteket. Díszes vacsora\, főúri környezet\, ahol értették Bach zenéjét\, és megadták a  módját a dolgoknak. \nBEETHOVEN – Holdfény szonáta\nBOR: Holdvölgy Vision 2016\nÉTEL: Grillezett szürkeharcsa spenótos ricottás rétessel\, marinált paradicsommal\, hollandi mártással\nValami tiszta szerelem legyen. \nVIVALDI – a-moll Concerto I. tétel\nBOR: Musci Alti Sangiovese 2015. Toscana\nÉTEL: Borjúsült erdei gombapaprikással szalvétagombóccal tejfölhabbal\nKönnyed kávéházi hangulat.\nBach a Zimmermann kávéházban zongorázott\, popzenét keresett kiegészítésként. \nVIVALDI – a-moll Concerto III. Tétel \nBOR: Vida Péter Szekszárdi La Vida 2016.\nÉTEL: Burgundi szarvascomb kecskesajtos polentával\, marinált céklával\nMegélt vagy elfojtott szenvedély?\nVajon lehet-e ennyire szenvedélyes zenét reverendából\, papként komponálni? Vagy talán éppen így lehet\, ha a vágyainkat a műalkotásainkban valósítjuk meg? \nBACH – d-moll Toccata és Fuga\nBOR: Regnum Cuvée 2016.\nÉTEL: Csokoládé „Trió” balzsamos málna öntettel\n(Mandulás csokoládé brownie\, csokoládé mousse és mogyorós trüffel találkozása) \nIsten\, és a transzcendens ember. \nMiért voltunk itt ma? Csak szórakozni? Vagy a világot és magunkat kissé jobban megismerni? Mi az élet célja? Az étel és ital áldozata az emberért\, és az Ember áldozata? „Hen panta einai – Minden egy.”  \n
URL:https://old.avertesagoraja.hu/program/bach-es-bacchus/
LOCATION:Agora Étterem és Kávézó\, Szent Borbála tér 1.\, Tatabánya\, Komárom-Esztergom\, 2800\, Magyarország
CATEGORIES:Programkínálat
ATTACH;FMTTYPE=image/jpeg:https://old.avertesagoraja.hu/wp-content/uploads/2020/10/Bach_es_Bacchus_800x400.jpg
END:VEVENT
END:VCALENDAR