BEGIN:VCALENDAR
VERSION:2.0
PRODID:-//A Vértes Agoraja - ECPv4.9.13//NONSGML v1.0//EN
CALSCALE:GREGORIAN
METHOD:PUBLISH
X-WR-CALNAME:A Vértes Agoraja
X-ORIGINAL-URL:https://old.avertesagoraja.hu
X-WR-CALDESC:Events for A Vértes Agoraja
BEGIN:VTIMEZONE
TZID:Europe/Paris
BEGIN:DAYLIGHT
TZOFFSETFROM:+0100
TZOFFSETTO:+0200
TZNAME:CEST
DTSTART:20180325T010000
END:DAYLIGHT
BEGIN:STANDARD
TZOFFSETFROM:+0200
TZOFFSETTO:+0100
TZNAME:CET
DTSTART:20181028T010000
END:STANDARD
END:VTIMEZONE
BEGIN:VEVENT
DTSTART;TZID=Europe/Paris:20180928T080000
DTEND;TZID=Europe/Paris:20180928T123000
DTSTAMP:20260423T105028
CREATED:20180925T073155Z
LAST-MODIFIED:20181003T090926Z
UID:38339-1538121600-1538137800@old.avertesagoraja.hu
SUMMARY:Atlétika nap
DESCRIPTION:\n\n	\n\n        20180928-a_01\n\n        \n\n        \n            \n        \n\n         \n\n        \n\n            \n                \n                    ◄ Előző                \n            \n\n            \n                \n                    Következő                    ►\n                \n            \n\n            \n                Kép                1                 /                21            \n\n            \n                  \n            \n\n        \n    \n\n\n \nA Tatabányai Sport Club Geotech atlétikai szakosztállyal együttműködésben megvalósuló Atlétika napra azokat az alsó tagozatos gyerekeket várjuk\, akik nagy kedvvel és ügyességgel\, otthonosan mozognak az atlétika egyes szakágaiban: jól futnak\, ugranak illetve dobnak. \nA program két turnusban zajlik: \n8:15-10:15 és 10:15-12:15 \nIskolai csoportok jelentkezését várja kollégánk:\nHeczmann Evelin +36 30 617 1887 \nA helyszínre történő szállítást autóbuszokkal biztosítjuk. \n
URL:https://old.avertesagoraja.hu/program/atletika-nap/
LOCATION:Grosics Gyula Stadion\, Szent Borbála út 13.\, Tatabánya\, Komárom-Esztergom\, 2800\, Magyarország
CATEGORIES:Programkínálat
ATTACH;FMTTYPE=image/jpeg:https://old.avertesagoraja.hu/wp-content/uploads/2018/09/AtletikaNap_2018_800x400.jpg
END:VEVENT
END:VCALENDAR