BEGIN:VCALENDAR
VERSION:2.0
PRODID:-//A Vértes Agoraja - ECPv4.9.13//NONSGML v1.0//EN
CALSCALE:GREGORIAN
METHOD:PUBLISH
X-WR-CALNAME:A Vértes Agoraja
X-ORIGINAL-URL:https://old.avertesagoraja.hu
X-WR-CALDESC:Events for A Vértes Agoraja
BEGIN:VTIMEZONE
TZID:Europe/Helsinki
BEGIN:DAYLIGHT
TZOFFSETFROM:+0200
TZOFFSETTO:+0300
TZNAME:EEST
DTSTART:20230326T010000
END:DAYLIGHT
BEGIN:STANDARD
TZOFFSETFROM:+0300
TZOFFSETTO:+0200
TZNAME:EET
DTSTART:20231029T010000
END:STANDARD
END:VTIMEZONE
BEGIN:VEVENT
DTSTART;TZID=Europe/Helsinki:20231202T190000
DTEND;TZID=Europe/Helsinki:20231202T203000
DTSTAMP:20260425T124323
CREATED:20230911T134948Z
LAST-MODIFIED:20231123T125404Z
UID:61594-1701543600-1701549000@old.avertesagoraja.hu
SUMMARY:Aranyakkord
DESCRIPTION:5 évvel ezelőtt\, egy ködös januári napon\, szinte észrevétlenül született meg az Aranyakkord. A formáció kezdetben csak Kiss Tibor (Quimby) és Vastag Gábor (A Kutya Vacsorája) duójaként működött\, egyszerűen csak összecsengtek a próbaterem kanapéján eljátszott dalok\, később pedig Gábor Andor „UFO” ütőhangszeres játékával vált teljessé a zenekar. Az Aranyakkord egy kísérleti műhely\, dalkeltető\, játék a zenével és a szöveggel. Sajátságos pszichedelikus-akusztikus hangulat\, rock’n’roll rezervátum\, szellemidézés\, néha Budapest utcáira repít\, néha az univerzumon is túlra. Az Aranyakkord öt éves fennállása alatt már többször zenélt Európában és Amerikában is. Koncertjeik közvetlen hangulatúak\, nincs éles határ a közönség és a színpad között\, saját számaik mellett improvizációk képében kap helyet a pillanat és életművük\, valamint kedvenceik feldolgozása is. \n\nJegyár: 5.900 Forint \nBelépőjegyek korlátozott számban kaphatók a online\, és személyesen\, A Vértes Agorája jegypénztárában. \n
URL:https://old.avertesagoraja.hu/program/aranyakkord/
LOCATION:A Vértes Agorája\, Szent Borbála tér 1.\, Tatabánya\, 2800\, Magyarország
CATEGORIES:Befogadott rendezvény,Programkínálat
ATTACH;FMTTYPE=image/jpeg:https://old.avertesagoraja.hu/wp-content/uploads/2023/09/aranyakkord_.jpg
END:VEVENT
END:VCALENDAR