BEGIN:VCALENDAR
VERSION:2.0
PRODID:-//A Vértes Agoraja - ECPv4.9.13//NONSGML v1.0//EN
CALSCALE:GREGORIAN
METHOD:PUBLISH
X-WR-CALNAME:A Vértes Agoraja
X-ORIGINAL-URL:https://old.avertesagoraja.hu
X-WR-CALDESC:Events for A Vértes Agoraja
BEGIN:VTIMEZONE
TZID:Europe/Paris
BEGIN:DAYLIGHT
TZOFFSETFROM:+0100
TZOFFSETTO:+0200
TZNAME:CEST
DTSTART:20190331T010000
END:DAYLIGHT
BEGIN:STANDARD
TZOFFSETFROM:+0200
TZOFFSETTO:+0100
TZNAME:CET
DTSTART:20191027T010000
END:STANDARD
END:VTIMEZONE
BEGIN:VEVENT
DTSTART;TZID=Europe/Paris:20190504T150000
DTEND;TZID=Europe/Paris:20190504T160000
DTSTAMP:20260425T204921
CREATED:20190304T081041Z
LAST-MODIFIED:20190505T120150Z
UID:43106-1556982000-1556985600@old.avertesagoraja.hu
SUMMARY:Apacuka koncert
DESCRIPTION:\n\n	\n\n        20190504_01\n\n        \n\n        \n            \n        \n\n         \n\n        \n\n            \n                \n                    ◄ Előző                \n            \n\n            \n                \n                    Következő                    ►\n                \n            \n\n            \n                Kép                1                 /                25            \n\n            \n                  \n            \n\n        \n    \n\n\n\nCsaládfánk – lemezbemutató koncert\nAz Apacuka a gyermekeknek szóló zenekarok legújabb generációja. \nInteraktív\, játékos\, táncos koncertjeinken változatos stílusú\, kizárólag élőben előadott dalok hallhatóak\, amelyek többek között megtalálhatóak a Színes világ\, a Hangfalatok és az újonnan megjelenő Családfánk című nagylemezeken. \nPálfi Kriszta énekesnő versei\, varázslatos hangja és személyisége kicsiket és nagyokat egyaránt elbűvöl. A dalok mondanivalója\, az egyedi stílus és a magával ragadó színpadi produkció teszi különlegessé és emlékezetessé az együttest. \n \nBelépőjegyek A Vértes Agorája jegypénztárában is kaphatók\, 2.300 Forintért.\nUtalványt\, valamint Cafeteria- és SZÉP Kártyát erre a rendezvényre nem áll módunkban elfogadni.\nBővebb információ\n  \n \n
URL:https://old.avertesagoraja.hu/program/apacuka-koncert/
LOCATION:A Vértes Agorája\, Szent Borbála tér 1.\, Tatabánya\, 2800\, Magyarország
CATEGORIES:Programkínálat
ATTACH;FMTTYPE=image/jpeg:https://old.avertesagoraja.hu/wp-content/uploads/2019/03/Apacuka_800x400.jpg
END:VEVENT
END:VCALENDAR