BEGIN:VCALENDAR
VERSION:2.0
PRODID:-//A Vértes Agoraja - ECPv4.9.13//NONSGML v1.0//EN
CALSCALE:GREGORIAN
METHOD:PUBLISH
X-WR-CALNAME:A Vértes Agoraja
X-ORIGINAL-URL:https://old.avertesagoraja.hu
X-WR-CALDESC:Events for A Vértes Agoraja
BEGIN:VTIMEZONE
TZID:Europe/Paris
BEGIN:DAYLIGHT
TZOFFSETFROM:+0100
TZOFFSETTO:+0200
TZNAME:CEST
DTSTART:20180325T010000
END:DAYLIGHT
BEGIN:STANDARD
TZOFFSETFROM:+0200
TZOFFSETTO:+0100
TZNAME:CET
DTSTART:20181028T010000
END:STANDARD
END:VTIMEZONE
BEGIN:VEVENT
DTSTART;TZID=Europe/Paris:20180225T150000
DTEND;TZID=Europe/Paris:20180225T160000
DTSTAMP:20260425T154404
CREATED:20171218T092228Z
LAST-MODIFIED:20180225T190529Z
UID:30513-1519570800-1519574400@old.avertesagoraja.hu
SUMMARY:Alma koncert
DESCRIPTION:\n\n	\n\n        20180225_01\n\n        \n\n        \n            \n        \n\n         \n\n        \n\n            \n                \n                    ◄ Előző                \n            \n\n            \n                \n                    Következő                    ►\n                \n            \n\n            \n                Kép                1                 /                20            \n\n            \n                  \n            \n\n        \n    \n\n\nA népszerű Alma Zenekar ismét fellép A Vértes Agorájában. \n“A családi koncert során az egyedi stílusú etno zenét játszó együttes improvizatív módon kezeli a táncos-zenés együttlétet: a gyerekek\, sőt a szülők is aktív részesei és formálói a sok vidámsággal fűszerezett műsornak.\nSikerük kulcsa a gyermeklelket megérintő őszinteségben\, a „nevető”\,- és „tánc-izmokat” egyaránt megmozgató képességükben rejlik.” \nForrás: www.almazenekar.hu \n  \n \n \nBelépőjegyek kaphatók A Vértes Agorája jegypénztárában is: 2.300 Ft.\nJegyvásárlás 2 éves kortól kötelező.\nErre a rendezvényre utalványt\, valamint Cafeteria- és SZÉP Kártyát nem áll módunkban elfogadni. Bővebb információ\n
URL:https://old.avertesagoraja.hu/program/alma-koncert/
LOCATION:A Vértes Agorája\, Szent Borbála tér 1.\, Tatabánya\, 2800\, Magyarország
CATEGORIES:Programkínálat
ATTACH;FMTTYPE=image/jpeg:https://old.avertesagoraja.hu/wp-content/uploads/2017/12/Alma_koncert_2018_800x400.jpg
END:VEVENT
END:VCALENDAR