BEGIN:VCALENDAR
VERSION:2.0
PRODID:-//A Vértes Agoraja - ECPv4.9.13//NONSGML v1.0//EN
CALSCALE:GREGORIAN
METHOD:PUBLISH
X-WR-CALNAME:A Vértes Agoraja
X-ORIGINAL-URL:https://old.avertesagoraja.hu
X-WR-CALDESC:Events for A Vértes Agoraja
BEGIN:VTIMEZONE
TZID:Europe/Paris
BEGIN:DAYLIGHT
TZOFFSETFROM:+0100
TZOFFSETTO:+0200
TZNAME:CEST
DTSTART:20220327T010000
END:DAYLIGHT
BEGIN:STANDARD
TZOFFSETFROM:+0200
TZOFFSETTO:+0100
TZNAME:CET
DTSTART:20221030T010000
END:STANDARD
END:VTIMEZONE
BEGIN:VEVENT
DTSTART;TZID=Europe/Paris:20221016T100000
DTEND;TZID=Europe/Paris:20221016T110000
DTSTAMP:20260425T142417
CREATED:20220915T122540Z
LAST-MODIFIED:20220915T122624Z
UID:58998-1665914400-1665918000@old.avertesagoraja.hu
SUMMARY:Alma koncert
DESCRIPTION:Jegyvásárlás\n  \nAz Alma Együttes a humorra\, egyedi\, improvizatív zenére épülő vidám koncertekről ismert. Tatabányán is népes rajongótáboruk\, lelkes – együtt éneklő-táncoló-mókázó – közönségük van\, éppen ezért visszatérő vendégek az Agorában. \n  \n \n \nBelépőjegyek kaphatók A Vértes Agorája jegypénztárában is: 2.700 Ft.\nJegyvásárlás 2 éves kortól kötelező.\nUtalványt\, valamint Cafeteria- és SZÉP Kártyát elfogadunk.\nBővebb információ\n
URL:https://old.avertesagoraja.hu/program/alma-koncert-2022/
LOCATION:A Vértes Agorája\, Szent Borbála tér 1.\, Tatabánya\, 2800\, Magyarország
CATEGORIES:Befogadott rendezvény,Programkínálat
ATTACH;FMTTYPE=image/png:https://old.avertesagoraja.hu/wp-content/uploads/2022/09/20221016_Alma_egyuttes_800x400.png
END:VEVENT
END:VCALENDAR