BEGIN:VCALENDAR
VERSION:2.0
PRODID:-//A Vértes Agoraja - ECPv4.9.13//NONSGML v1.0//EN
CALSCALE:GREGORIAN
METHOD:PUBLISH
X-WR-CALNAME:A Vértes Agoraja
X-ORIGINAL-URL:https://old.avertesagoraja.hu
X-WR-CALDESC:Events for A Vértes Agoraja
BEGIN:VTIMEZONE
TZID:Europe/Paris
BEGIN:DAYLIGHT
TZOFFSETFROM:+0100
TZOFFSETTO:+0200
TZNAME:CEST
DTSTART:20200329T010000
END:DAYLIGHT
BEGIN:STANDARD
TZOFFSETFROM:+0200
TZOFFSETTO:+0100
TZNAME:CET
DTSTART:20201025T010000
END:STANDARD
END:VTIMEZONE
BEGIN:VEVENT
DTSTART;TZID=Europe/Paris:20200126T150000
DTEND;TZID=Europe/Paris:20200126T160000
DTSTAMP:20260425T174010
CREATED:20191125T092601Z
LAST-MODIFIED:20200127T082115Z
UID:48743-1580050800-1580054400@old.avertesagoraja.hu
SUMMARY:Alma koncert
DESCRIPTION:\n\n\n\n 	\n\n        \n\n            \n        \n\n         \n\n\n        \n\n            \n        \n\n         \n\n\n        \n\n            \n        \n\n         \n\n\n        \n\n            \n        \n\n         \n\n\n        \n\n            \n        \n\n         \n\n\n        \n\n            \n        \n\n         \n\n\n        \n\n            \n        \n\n         \n\n\n        \n\n            \n        \n\n         \n\n\n        \n\n            \n        \n\n         \n\n\n        \n\n            \n        \n\n         \n\n\n        \n\n            \n        \n\n         \n\n\n        \n\n            \n        \n\n         \n\n\n        \n\n            \n        \n\n         \n\n\n        \n\n            \n        \n\n         \n\n\n        \n\n            \n        \n\n         \n\n\n        \n\n            \n        \n\n         \n\n\n        \n\n            \n        \n\n         \n\n\n        \n\n            \n        \n\n         \n\n\n        \n\n            \n        \n\n         \n\n\n        \n\n            \n        \n\n         \n\n\n        \n\n            \n        \n\n         \n\n\n        \n\n            \n        \n\n         \n\n\n        \n\n            \n        \n\n         \n\n\n        \n\n            \n        \n\n         \n\n\n        \n\n            \n        \n\n         \n\n\n        \n\n            \n        \n\n         \n\n\n        \n\n            \n        \n\n         \n\n\n        \n\n            \n        \n\n         \n\n\n        \n\n            \n        \n\n         \n\n\n        \n\n            \n        \n\n         \n\n\n        \n\n            \n        \n\n         \n\n\n        \n\n            \n        \n\n         \n\n\n\n		\n	\n        [Bélyegképek megjelenítése]\n	\n\n\nAz Alma Együttesnek Tatabányán is népes rajongótábora van\, évről évre telt ház fogadja őket A Vértes Agorájában. 2020-ban is eljönnek\, hogy mókás-bohókás koncerttel örvendeztessék meg kitartó és lelkes közönségüket. \n“A családi koncert során az egyedi stílusú etno zenét játszó együttes improvizatív módon kezeli a táncos-zenés együttlétet: a gyerekek\, sőt a szülők is aktív részesei és formálói a sok vidámsággal fűszerezett műsornak.\nSikerük kulcsa a gyermeklelket megérintő őszinteségben\, a „nevető”\,- és „tánc-izmokat” egyaránt megmozgató képességükben rejlik.” \nForrás: www.almazenekar.hu\n  \n \n \nBelépőjegyek kaphatók A Vértes Agorája jegypénztárában is: 2.300 Ft.\nJegyvásárlás 2 éves kortól kötelező.\nErre a rendezvényre utalványt\, valamint Cafeteria- és SZÉP Kártyát nem áll módunkban elfogadni. Bővebb információ\n
URL:https://old.avertesagoraja.hu/program/alma-koncert-2020/
LOCATION:A Vértes Agorája\, Szent Borbála tér 1.\, Tatabánya\, 2800\, Magyarország
CATEGORIES:Programkínálat
ATTACH;FMTTYPE=image/jpeg:https://old.avertesagoraja.hu/wp-content/uploads/2019/11/Alma_koncert_2020_800x400.jpg
END:VEVENT
END:VCALENDAR